﻿BEGIN:VCALENDAR
VERSION:2.0
PRODID:-//Katona József Könyvtár - ECPv6.10.1.1//NONSGML v1.0//EN
CALSCALE:GREGORIAN
METHOD:PUBLISH
X-ORIGINAL-URL:https://www.kjmk.hu
X-WR-CALDESC:Events for Katona József Könyvtár
REFRESH-INTERVAL;VALUE=DURATION:PT1H
X-Robots-Tag:noindex
X-PUBLISHED-TTL:PT1H
BEGIN:VTIMEZONE
TZID:Europe/Budapest
BEGIN:DAYLIGHT
TZOFFSETFROM:+0100
TZOFFSETTO:+0200
TZNAME:CEST
DTSTART:20240331T010000
END:DAYLIGHT
BEGIN:STANDARD
TZOFFSETFROM:+0200
TZOFFSETTO:+0100
TZNAME:CET
DTSTART:20241027T010000
END:STANDARD
END:VTIMEZONE
BEGIN:VEVENT
DTSTART;TZID=Europe/Budapest:20240902T190000
DTEND;TZID=Europe/Budapest:20240902T230000
DTSTAMP:20260421T112051
CREATED:20240716T091030Z
LAST-MODIFIED:20240725T122837Z
UID:33682-1725303600-1725318000@www.kjmk.hu
SUMMARY:DÉS LÁSZLÓ ÉS VENDÉGEI KONCERT KECSKEMÉTEN
DESCRIPTION:Dés László és vendégei koncert Kecskeméten \n  \nA nagysikerű Férfi és Nő koncertsorozat után most egy új nagynevű színész hármas mutatkozik be Dés László dalaival: Für Anikó\, Mácsai Pál és Nagy Ervin.\n\n\nDés László és vendégei koncert\na Kecskeméti Katona József Nemzeti Színházban\n\n\n\nIdőpont: 2024.09.02. hétfő 19:00 \nHelyszín: Nagyszínház \nMeghívott vendégek: Für Anikó\, Mácsai Pál\, Nagy Ervin \nJegyvásárlás személyesen a Malom Központban található Jegyirodánkban (Kecskemét\, Korona utca 2.\, III. emelet\, a Libri mellett)\, illetve online a jegy.hu oldalán! \nJegyár: 16.990 Ft\, 15.990 Ft\, 14.990 Ft \n  \nDÉS LÁSZLÓ koncertje: \nA nagysikerű Férfi és Nő koncertsorozat után most egy új nagynevű színész hármas mutatkozik be Dés László dalaival: Für Anikó\, Mácsai Pál és Nagy Ervin. \n„Kedves zene és dalszerető közönség! Évtizedek óta dolgozom színészekkel\, és ez nem véletlen. Szeretem\, ahogy dalokat énekelnek\, ahogyan azok szövegét\, tartalmát értelmezik\, és tehetségüket\, mély ismereteiket az emberi lélekről\, az emberi természetről beleviszik előadásukba. \nFür Anikó és Dés László ebben a produkcióban találkozott először koncert színpadon. Für Anikó remek színésznő és amellett nagyszerűen énekel\, saját koncertjével évek óta járja az országot. Dés dalokat korábban még nem énekelt\, nagy izgalommal vártuk a nagy találkozást\, amely remekül sikerült! \nMácsai Pállal\, akiről köztudott\, hogy nemcsak prózában rendkívüli művész\, de nagyszerűen énekel és gitározik\, Dés László több produkcióban lépett már fel együtt\, de korábban ezek leginkább zenés irodalmi műsorok voltak. Idén áprilisi koncertjére hívta először vendégül énekelni\, sőt\, kifejezetten neki írt dalt\, melynek szövegét maga a kiváló színész jegyzi. \nNagy Ervinnel 2021-ben kezdett együtt dolgozni Dés Lászlóval. Nagy Ervin amellett\, hogy remek színész\, nagyon muzikális és nagyszerűen énekel. \nA produkciót ezúttal is egy kiváló zenészekből és vokalistákból álló zenekar kíséri. \nAz együttes tagjai: \n\nSipeki Zoltán – gitár\nBoros Attila – basszusgitár\nSebestyén Áron – billentyűs hangszerek\nGyenge Lajos – dobok\nÓvári Éva – vokál\nPéter Barbara – vokál\n\n\n  \n 
URL:https://www.kjmk.hu/esemeny/des-laszlo-es-vendegei-koncert-kecskemeten/
LOCATION:Kecskemét Katona József Nemzeti Színház\, Katona József tér 5.\, Kecskemét\, 6000
CATEGORIES:Kecskeméti koncertélet,Könnyűzene
END:VEVENT
END:VCALENDAR