﻿BEGIN:VCALENDAR
VERSION:2.0
PRODID:-//Katona József Könyvtár - ECPv6.10.1.1//NONSGML v1.0//EN
CALSCALE:GREGORIAN
METHOD:PUBLISH
X-WR-CALNAME:Katona József Könyvtár
X-ORIGINAL-URL:https://www.kjmk.hu
X-WR-CALDESC:Events for Katona József Könyvtár
REFRESH-INTERVAL;VALUE=DURATION:PT1H
X-Robots-Tag:noindex
X-PUBLISHED-TTL:PT1H
BEGIN:VTIMEZONE
TZID:Europe/Budapest
BEGIN:DAYLIGHT
TZOFFSETFROM:+0100
TZOFFSETTO:+0200
TZNAME:CEST
DTSTART:20240331T010000
END:DAYLIGHT
BEGIN:STANDARD
TZOFFSETFROM:+0200
TZOFFSETTO:+0100
TZNAME:CET
DTSTART:20241027T010000
END:STANDARD
END:VTIMEZONE
BEGIN:VEVENT
DTSTART;TZID=Europe/Budapest:20240910T090000
DTEND;TZID=Europe/Budapest:20241231T180000
DTSTAMP:20260419T150952
CREATED:20240903T105547Z
LAST-MODIFIED:20240903T105547Z
UID:35061-1725958800-1735668000@www.kjmk.hu
SUMMARY:"Minden korszak hoz valami újat..." Jeles kecskeméti évfordulók
DESCRIPTION:dokumentumkiállítás
URL:https://www.kjmk.hu/esemeny/minden-korszak-hoz-valami-ujat-jeles-kecskemeti-evfordulok-2/
LOCATION:Katona József Könyvtár\, Kecskemét\, Piaristák tere 8.\, Magyarország
CATEGORIES:Kiállítás
END:VEVENT
BEGIN:VEVENT
DTSTART;TZID=Europe/Budapest:20240916T090000
DTEND;TZID=Europe/Budapest:20240921T180000
DTSTAMP:20260419T150952
CREATED:20240911T073305Z
LAST-MODIFIED:20240911T073305Z
UID:35403-1726477200-1726941600@www.kjmk.hu
SUMMARY:Széchenyiváros hete
DESCRIPTION:Szeptember 17. (kedd) 15.00-16.00 óra\nVersfejtörő – Költészetet kedvelők délutánja \nSzeptember 17. (kedd) 16.30 óra\nKapcsolatainkon keresztül sérültünk meg\, kapcsolatok segítségével gyógyulunk – interaktív előadás az Empátia Pszichológiai Központ bemutatkozásával\nElőadó: Csernák Krisztina egészségszakpszichológus \nSzeptember 18. (szerda) 9-13 és 14-18 óra\nKönyvtári színező – Közös színezés gyerekekkel \nSzeptember 19. (csütörtök) 9.30-10.30 óra\nŐszi kavalkád – Mesék\, versek\, történetek \nSzeptember 19. (csütörtök) 16.30 óra\nSzabó Tamás: Liliom (könyvbemutató)\nVendégünk: a kötet szerzője \nSzeptember 20. (péntek) 14.00 óra\nKépregényes kalandok – Mit kell tudni a képregényekről?\nVezeti: Herega Zoltán könyvtáros \nSzeptember 20. (péntek) 16.30 óra\nRobotok a könyvtárban! – Robotika előadás és bemutató Lego és Sphero robotokkal\nVezeti: Molnár Dániel könyvtáros \nSzeptember 21. (szombat) 10.00 óra\nMesedélelőtt\nCsaládi program \nSzeptember 17-21. (kedd-szombat) nyitvatartási időben\nŰ”Megfordul a nyár még…” – Családi nyomkereső játék
URL:https://www.kjmk.hu/esemeny/szechenyivaros-hete-2/
LOCATION:Széchenyivárosi Fiókkönyvtár\, Széchenyi sétány 6.\, Kecskemét
CATEGORIES:Fiókkönyvtári program,Széchenyivárosi Fiókkönyvtár
END:VEVENT
BEGIN:VEVENT
DTSTART;TZID=Europe/Budapest:20240917T090000
DTEND;TZID=Europe/Budapest:20240928T130000
DTSTAMP:20260419T150952
CREATED:20240917T133807Z
LAST-MODIFIED:20240917T133807Z
UID:35756-1726563600-1727528400@www.kjmk.hu
SUMMARY:"Megfordul a nyár még..."
DESCRIPTION:családi nyomkereső játék \nSzéchenyiváros hete a Katona József Könyvtár Széchenyivárosi Fiókkönyvtárában
URL:https://www.kjmk.hu/esemeny/megfordul-a-nyar-meg/
LOCATION:Széchenyivárosi Fiókkönyvtár\, Széchenyi sétány 6.\, Kecskemét
CATEGORIES:Fiókkönyvtári program,Széchenyivárosi Fiókkönyvtár
END:VEVENT
BEGIN:VEVENT
DTSTART;TZID=Europe/Budapest:20240918T090000
DTEND;TZID=Europe/Budapest:20240918T180000
DTSTAMP:20260419T150952
CREATED:20240830T081815Z
LAST-MODIFIED:20240830T081815Z
UID:34837-1726650000-1726682400@www.kjmk.hu
SUMMARY:Könyvtári Színező
DESCRIPTION:
URL:https://www.kjmk.hu/esemeny/konyvtari-szinezo-41/
LOCATION:Széchenyivárosi Fiókkönyvtár\, Széchenyi sétány 6.\, Kecskemét
CATEGORIES:Fiókkönyvtári program,Széchenyivárosi Fiókkönyvtár
END:VEVENT
BEGIN:VEVENT
DTSTART;TZID=Europe/Budapest:20240918T093000
DTEND;TZID=Europe/Budapest:20240918T103000
DTSTAMP:20260419T150952
CREATED:20240904T112029Z
LAST-MODIFIED:20240904T112029Z
UID:35133-1726651800-1726655400@www.kjmk.hu
SUMMARY:HírCsE csacsogó baba-mama klub
DESCRIPTION:HírCsE csacsogó baba-mama klub HírCsE csacsogó baba-mama klub a Hírös Családmentor Egyesület vezetésével \nTovábbi információk és jelentkezés a zárt csoportban: https://www.facebook.com/groups/878368010047178 \nHelyszín: II. emelet\, Közösségi fejlesztő tér
URL:https://www.kjmk.hu/esemeny/hircse-csacsogo-baba-mama-klub-19/
LOCATION:Katona József Könyvtár\, Kecskemét\, Piaristák tere 8.\, Magyarország
CATEGORIES:Könyvtári program
END:VEVENT
BEGIN:VEVENT
DTSTART;TZID=Europe/Budapest:20240918T150000
DTEND;TZID=Europe/Budapest:20240918T160000
DTSTAMP:20260419T150952
CREATED:20240829T121638Z
LAST-MODIFIED:20240829T121638Z
UID:34795-1726671600-1726675200@www.kjmk.hu
SUMMARY:Könyvmoly képző
DESCRIPTION:Játékos könyvtárhasználati foglalkozás kicsiknek és nagyoknak
URL:https://www.kjmk.hu/esemeny/konyvmoly-kepzo-8/
LOCATION:Hunyadivárosi Fiókkönyvtár\, Kandó Kálmán u. 14.\, Kecskemét
CATEGORIES:Fiókkönyvtári program,Hunyadivárosi Fiókkönyvtár
END:VEVENT
BEGIN:VEVENT
DTSTART;TZID=Europe/Budapest:20240918T180000
DTEND;TZID=Europe/Budapest:20240918T190000
DTSTAMP:20260419T150952
CREATED:20240731T075609Z
LAST-MODIFIED:20240731T075609Z
UID:34125-1726682400-1726686000@www.kjmk.hu
SUMMARY:Bödőcs Tibor | Barbárglamour - MINDEN JEGY ELKELT!
DESCRIPTION:Bödőcs Tibor | Barbárglamour – MINDEN JEGY ELKELT!\n  \n„Sok ezer kilométert maga mögött hagyva\, jó pár száz dobozos sört kiürítve\, rengeteg inget összegyűrve\, temérdek vállfát elveszítve utazik hatodik önálló estem: a Barbárglamour. \nA műsorban a gyerekkori élményeim mellett nemzeti sorskérdéseket és globális katasztrófákat is sorra veszek (kíméletlenül)\, a közönség pedig önfeledten szórakozik. Idén még megtekinthető a show\, jövőre újra és már megint alkotói szabadságra vonulok.” -Bödőcs Tibor \n„Előzenekar”: Hajdú Balázs
URL:https://www.kjmk.hu/esemeny/bodocs-tibor-barbarglamour-minden-jegy-elkelt/
LOCATION:Hírös Agóra Kulturális és Ifjúsági Központ\, Kecskemét\, Deák Ferenc tér 1.\, 6000
CATEGORIES:Ismeretterjesztő program,Kecskeméti koncertélet
END:VEVENT
BEGIN:VEVENT
DTSTART;TZID=Europe/Budapest:20240918T190000
DTEND;TZID=Europe/Budapest:20240918T233000
DTSTAMP:20260419T150952
CREATED:20240918T145142Z
LAST-MODIFIED:20240923T061636Z
UID:35827-1726686000-1726702200@www.kjmk.hu
SUMMARY:Tankcsapda 2024- szabadtéri szezonzáró buli
DESCRIPTION:TANKCSAPDA 2024 – Szabadtéri szezonzáró buli\n  \nKECSKEMÉT / ÁPOLÓ KLUB \n2024. szeptember 28. \n19.00 kapunyitás \n20.15 Tankcsapda \nBelépő elővételben: 7000 Ft / A koncert napján: 8000 Ft \nJegyelővétel: Tixa.hu\, Ápoló Klub (Kecskemét\, Olimpia u. 14.)
URL:https://www.kjmk.hu/esemeny/tankcsapda-2024-szabadteri-szezonzaro-buli/
LOCATION:Kecskemét Ápoló klub\, Olimpia út 14.\, Kecskemét\, 6000\, Magyarország
CATEGORIES:Kecskeméti koncertélet,Könnyűzene
END:VEVENT
END:VCALENDAR