﻿BEGIN:VCALENDAR
VERSION:2.0
PRODID:-//Katona József Könyvtár - ECPv6.10.1.1//NONSGML v1.0//EN
CALSCALE:GREGORIAN
METHOD:PUBLISH
X-WR-CALNAME:Katona József Könyvtár
X-ORIGINAL-URL:https://www.kjmk.hu
X-WR-CALDESC:Events for Katona József Könyvtár
REFRESH-INTERVAL;VALUE=DURATION:PT1H
X-Robots-Tag:noindex
X-PUBLISHED-TTL:PT1H
BEGIN:VTIMEZONE
TZID:Europe/Budapest
BEGIN:DAYLIGHT
TZOFFSETFROM:+0100
TZOFFSETTO:+0200
TZNAME:CEST
DTSTART:20250330T010000
END:DAYLIGHT
BEGIN:STANDARD
TZOFFSETFROM:+0200
TZOFFSETTO:+0100
TZNAME:CET
DTSTART:20251026T010000
END:STANDARD
BEGIN:DAYLIGHT
TZOFFSETFROM:+0100
TZOFFSETTO:+0200
TZNAME:CEST
DTSTART:20260329T010000
END:DAYLIGHT
BEGIN:STANDARD
TZOFFSETFROM:+0200
TZOFFSETTO:+0100
TZNAME:CET
DTSTART:20261025T010000
END:STANDARD
END:VTIMEZONE
BEGIN:VEVENT
DTSTART;TZID=Europe/Budapest:20251201T000000
DTEND;TZID=Europe/Budapest:20260531T235900
DTSTAMP:20260421T112802
CREATED:20260219T144854Z
LAST-MODIFIED:20260219T144854Z
UID:72719-1764547200-1780271940@www.kjmk.hu
SUMMARY:#influenszerkerestetik
DESCRIPTION:A kisujjadban van a rövid\, vicces videók készítése? Legyél Te a könyvtár arca! \nKészíts videót könyvtárunk tereiben\, küldd el\, és mi megalapozzuk saját követőbázisodat! \nHa tiéd a legnagyobb nézettség\, nyereményed egy erdélyi utazás! \nEgy pályázó több videót is küldhet\, így növelve esélyeit a győzelemre. \nAz akció ideje: 2025. december 1. – 2026. május 31. \nVideók beküldése és további információ: influenszerkerestetik@gmail.com
URL:https://www.kjmk.hu/esemeny/influenszerkerestetik/
LOCATION:Katona József Könyvtár\, Kecskemét\, Piaristák tere 8.\, Magyarország
CATEGORIES:Játék
ATTACH;FMTTYPE=image/jpeg:https://www.kjmk.hu/wp-content/uploads/influenszer_kerestetik_web.jpg
END:VEVENT
BEGIN:VEVENT
DTSTART;TZID=Europe/Budapest:20260113T090000
DTEND;TZID=Europe/Budapest:20260630T180000
DTSTAMP:20260421T112802
CREATED:20260112T115832Z
LAST-MODIFIED:20260112T115832Z
UID:69579-1768294800-1782842400@www.kjmk.hu
SUMMARY:Kecskemét krónikásai
DESCRIPTION:Dokumentumkiállítás a Helyismereti gyűjteményben. Megtekinthető a könyvtár nyitvatartási idejében.
URL:https://www.kjmk.hu/esemeny/kecskemet-kronikasai/
LOCATION:Katona József Könyvtár\, Kecskemét\, Piaristák tere 8.\, Magyarország
CATEGORIES:Kiállítás
ATTACH;FMTTYPE=image/jpeg:https://www.kjmk.hu/wp-content/uploads/Kecskemet_kronikasai_kiallitas_web.jpg
END:VEVENT
BEGIN:VEVENT
DTSTART;TZID=Europe/Budapest:20260115T090000
DTEND;TZID=Europe/Budapest:20260530T180000
DTSTAMP:20260421T112802
CREATED:20260115T122402Z
LAST-MODIFIED:20260115T122758Z
UID:69879-1768467600-1780164000@www.kjmk.hu
SUMMARY:Lapról hangra
DESCRIPTION:Hanggal kapcsolódva – egymást segítve. \nFelhangosítjuk az újságokat! Olvasson\, hogy más is „olvashasson”! \nVálasszon egy cikket és olvassa fel a látássérülteknek 2026. május 30-ig! \nTovábbi információ a 2. emeleti Zenei szolgáltatásban.
URL:https://www.kjmk.hu/esemeny/laprol-hangra/
LOCATION:Katona József Könyvtár\, Kecskemét\, Piaristák tere 8.\, Magyarország
CATEGORIES:Játék
ATTACH;FMTTYPE=image/jpeg:https://www.kjmk.hu/wp-content/uploads/Laprol_hangra_kihivas_web.jpg
END:VEVENT
BEGIN:VEVENT
DTSTART;TZID=Europe/Budapest:20260124T150000
DTEND;TZID=Europe/Budapest:20260227T180000
DTSTAMP:20260421T112802
CREATED:20260113T141628Z
LAST-MODIFIED:20260228T084008Z
UID:69655-1769266800-1772215200@www.kjmk.hu
SUMMARY:MŰ/TÁRGY 2026 - Képzőművészeti kiállítás
DESCRIPTION:A képzőművészeti kiállításoknál megszoktuk\, hogy a kiállított képek között kapcsolatot keresünk. Ha egyéni kiállításról van szó\, akkor az alkotó stílusjegyei foglalkoztatnak bennünket\, csoportos kiállítás kapcsán pedig az köti le a figyelmünket\, hogy az egyes alkotók munkái miképpen kapcsolódnak egymáshoz. \nEzen a mostani kiállításon szereplő alkotások nem kötődnek egymáshoz\, ha csak annyiban nem\, hogy közel egyidőben\, s viszonylag jól körülhatárolható térben teremtődtek. Egymás mellett\, de önmagukban léteznek\, a látogató így\, önállóságukban tekintheti meg őket. \nA kiállításon egy-egy alkotásukkal szereplő alkotók. A kiállított műtárgyak mellett rövid vallomásaik olvashatók. \nKiállító művészek:\nVarga Imre\nDamó István\nDeli Gábor\nGulyás Géza\nHorváth Mária\nKirály Gábor\nKis Tamás\nLakatos Pál\nMiklós Árpád\nSzilágyi Varga Zoltán\nSzoboszlay Eszter\nSzoboszlay Péter\nUgray Zsuzsa\nUlrich Gábor \nKöszöntőt mond: Bujdosóné Dr. Dani Erzsébet könyvtárigazgató. \nA kiállítást megnyitja: Simon Magdolna művészettörténész. \nKözreműködik: Maczák János klarinétművész. \nA kiállító művészek portréját készítette: Banczik Róbert fotográfus. \nA kiállítást rendezte: Füzi László és Virág Ágnes. \nFacebook-esemény: https://www.facebook.com/events/1502116487558448
URL:https://www.kjmk.hu/esemeny/mu-targy-2026-kepzomuveszeti-kiallitas/
LOCATION:Katona József Könyvtár\, Kecskemét\, Piaristák tere 8.\, Magyarország
CATEGORIES:Kiállítás
ATTACH;FMTTYPE=image/jpeg:https://www.kjmk.hu/wp-content/uploads/MKN_Mu_targy_kiallitas_web.jpg
END:VEVENT
BEGIN:VEVENT
DTSTART;TZID=Europe/Budapest:20260210T090000
DTEND;TZID=Europe/Budapest:20260318T180000
DTSTAMP:20260421T112802
CREATED:20260204T120002Z
LAST-MODIFIED:20260204T120002Z
UID:71378-1770714000-1773856800@www.kjmk.hu
SUMMARY:Becézve\, gyöngéd szeretettel
DESCRIPTION:Híres embereink szerelmesen. Keresse a párokat! Találja ki\, melyik írónk/költőnk hogyan nevezte kedvesét! \nSzerelmi kalandtúra állomás.
URL:https://www.kjmk.hu/esemeny/becezve-gyonged-szeretettel/
LOCATION:Katona József Könyvtár\, Kecskemét\, Piaristák tere 8.\, Magyarország
CATEGORIES:Játék
ATTACH;FMTTYPE=image/jpeg:https://www.kjmk.hu/wp-content/uploads/Becezve_gyonged_szeretettel_web.jpg
END:VEVENT
BEGIN:VEVENT
DTSTART;TZID=Europe/Budapest:20260226T080000
DTEND;TZID=Europe/Budapest:20260226T170000
DTSTAMP:20260421T112802
CREATED:20260226T115012Z
LAST-MODIFIED:20260226T115012Z
UID:73338-1772092800-1772125200@www.kjmk.hu
SUMMARY:Hunyadivárosi népzene találkozó
DESCRIPTION:Érdeklődés: +36-76/800-025 \n 
URL:https://www.kjmk.hu/esemeny/hunyadivarosi-nepzene-talalkozo/
LOCATION:Hunyadivárosi Fiókkönyvtár\, Kandó Kálmán u. 14.\, Kecskemét
CATEGORIES:Fiókkönyvtári program,Hunyadivárosi Fiókkönyvtár
END:VEVENT
BEGIN:VEVENT
DTSTART;TZID=Europe/Budapest:20260226T100000
DTEND;TZID=Europe/Budapest:20260226T120000
DTSTAMP:20260421T112802
CREATED:20260127T122409Z
LAST-MODIFIED:20260127T122409Z
UID:70573-1772100000-1772107200@www.kjmk.hu
SUMMARY:Babahancurka
DESCRIPTION:Mondókázó foglalkozás babáknak\, mamáknak\, papáknak 0-3 éves korig csütörtökönként 10 és 11 órától. \nA részvétel előzetes regisztrációhoz és Babaolvasójegyhez kötött: \n\ntelefon: 76/500-567\nonline: https://www.kjmk.hu/babahancurka/\n\na
URL:https://www.kjmk.hu/esemeny/babahancurka-314/
LOCATION:Katona József Könyvtár\, Kecskemét\, Piaristák tere 8.\, Magyarország
CATEGORIES:Könyvtári program
ATTACH;FMTTYPE=image/jpeg:https://www.kjmk.hu/wp-content/uploads/babahancurka_web_jav2-1.jpg
END:VEVENT
BEGIN:VEVENT
DTSTART;TZID=Europe/Budapest:20260226T140000
DTEND;TZID=Europe/Budapest:20260226T150000
DTSTAMP:20260421T112802
CREATED:20260130T103008Z
LAST-MODIFIED:20260130T103008Z
UID:70909-1772114400-1772118000@www.kjmk.hu
SUMMARY:Boldog szabadidő
DESCRIPTION:Irodalmi és beszélgető kör társasjátékkal
URL:https://www.kjmk.hu/esemeny/boldog-szabadido-123/
LOCATION:Hunyadivárosi Fiókkönyvtár\, Kandó Kálmán u. 14.\, Kecskemét
CATEGORIES:Fiókkönyvtári program,Hunyadivárosi Fiókkönyvtár
END:VEVENT
BEGIN:VEVENT
DTSTART;TZID=Europe/Budapest:20260226T163000
DTEND;TZID=Europe/Budapest:20260226T173000
DTSTAMP:20260421T112802
CREATED:20260130T120628Z
LAST-MODIFIED:20260213T075021Z
UID:70950-1772123400-1772127000@www.kjmk.hu
SUMMARY:Mesedélután
DESCRIPTION:Takács Viktória: Busó mese. \nA foglalkozást vezeti: Pécsiné Crnkovics Márta könyvtáros.
URL:https://www.kjmk.hu/esemeny/mesedelutan-24/
LOCATION:Széchenyivárosi Fiókkönyvtár\, Széchenyi sétány 6.\, Kecskemét
CATEGORIES:Fiókkönyvtári program,Széchenyivárosi Fiókkönyvtár
END:VEVENT
BEGIN:VEVENT
DTSTART;TZID=Europe/Budapest:20260226T163000
DTEND;TZID=Europe/Budapest:20260226T173000
DTSTAMP:20260421T112802
CREATED:20260213T073353Z
LAST-MODIFIED:20260213T073353Z
UID:72397-1772123400-1772127000@www.kjmk.hu
SUMMARY:Star Wars Könyvtári Jedi Akadémia
DESCRIPTION:Lenyűgöző jelmezek. \nVezeti: Molnár Dániel könyvtáros. \nOnline közösségünk: https://www.facebook.com/groups/konyvtarijediakademia/
URL:https://www.kjmk.hu/esemeny/star-wars-konyvtari-jedi-akademia-21/
LOCATION:Katona József Könyvtár\, Kecskemét\, Piaristák tere 8.\, Magyarország
CATEGORIES:Könyvtári program
ATTACH;FMTTYPE=image/jpeg:https://www.kjmk.hu/wp-content/uploads/jedi_web_alt2-2.jpg
END:VEVENT
BEGIN:VEVENT
DTSTART;TZID=Europe/Budapest:20260226T163000
DTEND;TZID=Europe/Budapest:20260226T180000
DTSTAMP:20260421T112802
CREATED:20260206T085240Z
LAST-MODIFIED:20260206T085240Z
UID:71524-1772123400-1772128800@www.kjmk.hu
SUMMARY:Utazók a könyvtárban - Törökország
DESCRIPTION:A könyvtár turisztikai előadás-sorozata. \nAz „all inclusive” nyaraláson túl. Kalandozások Törökországban\, a lykiai partvidéken. \nElőadó: Zöldi-Kovácsné Korompai Mónika tanár\, karvezető. \nE-mail: utazok [at] kjmk.hu. \nFacebook-esemény: https://www.facebook.com/events/1199879455213654 \n \n 
URL:https://www.kjmk.hu/esemeny/utazok-a-konyvtarban-torokorszag/
LOCATION:Katona József Könyvtár\, Kecskemét\, Piaristák tere 8.\, Magyarország
CATEGORIES:Könyvtári program
ATTACH;FMTTYPE=image/jpeg:https://www.kjmk.hu/wp-content/uploads/utazok_web_jav.jpg
END:VEVENT
BEGIN:VEVENT
DTSTART;TZID=Europe/Budapest:20260226T163000
DTEND;TZID=Europe/Budapest:20260226T180000
DTSTAMP:20260421T112802
CREATED:20260311T064843Z
LAST-MODIFIED:20260311T064843Z
UID:74513-1772123400-1772128800@www.kjmk.hu
SUMMARY:Utazók a könyvtárban - Törökország
DESCRIPTION:Az Utazók a könyvtárban előadója február 26-án Zöldi-Kovácsné Korompai Mónika volt\, aki 2023 októberében utazott Törökország dél-nyugati részére\, lykiai partvidékére. Főszezonon kívül a leleményes török utazási irodák olyan buszos körutazásokat állítanak össze a külföldiek számára\, melyeken az ekkor már üres tengerparti szállodák kínálnak éjszakára szállást. Lykiára az antik kultúra szerelmeseinek érdemes ellátogatni. Ahogy mondani szokták\, Törökországban sokkal több az antik görög-római emlék\, mint Görögországban. Ennek oka\, hogy míg Görögországban a városok évezredeken keresztül lakottak voltak és jelenleg is azok\, egymásra épültek a különböző korok rétegei\, ami nagyban megnehezíti a feltárást. Törökországban viszont hatalmas területek állnak lakatlanul\, az egykori városok romjait betemette a föld\, így azok a régészek feltárásai után „rögtön” láthatóvá válnak. A lykiai körutazás résztvevői megcsodálhatták Myra sziklasírjait és hatalmas ókori színházát\, Szent Miklós szarkofágját\, Epheszosz agoráit és amfiteátrumát\, a házat\, melyben a hagyomány szerint Szűz Mária élt\, Laodicea óriási romterületét a hatalmas amfiteátrummal\, Kekova város tengeralatti romjait és még sok gyönyörű építészeti emléket.\nA lykiai partvidéket természeti szépségei kedvéért is érdemes felkeresni. A Dalyan folyó deltatorkolatán hajózva a magyar turistának a Tisza-tó jut eszébe\, eltekintve a folyót határoló magas hegyektől és az ott található sziklasíroktól. A tengerpart ezen a szakaszon homokos\, a víz fürdésre alkalmas\, de természetvédelmi okokból kiépített infrastruktúra nincs a parton. Pamukkale (gyapotvár) évszázadokon át hófehér vonulataival kápráztatta el az arra járókat\, mára sajnos veszített fehérségéből\, a csapadékhiány miatt ugyanis nem mindenhol tud kicsapódni a mészkő. Bővebben\n\n\nAz utazásról bővebben itt olvashat:\nhttps://montazsmagazin.hu/az-all-inclusive-nyaralason…/\nhttps://montazsmagazin.hu/az-all-inclusive-nyaralason…/
URL:https://www.kjmk.hu/esemeny/utazok-a-konyvtarban-torokorszag-2/
LOCATION:Katona József Könyvtár\, Kecskemét\, Piaristák tere 8.\, Magyarország
CATEGORIES:Híreink
END:VEVENT
END:VCALENDAR