﻿BEGIN:VCALENDAR
VERSION:2.0
PRODID:-//Katona József Könyvtár - ECPv6.10.1.1//NONSGML v1.0//EN
CALSCALE:GREGORIAN
METHOD:PUBLISH
X-WR-CALNAME:Katona József Könyvtár
X-ORIGINAL-URL:https://www.kjmk.hu
X-WR-CALDESC:Events for Katona József Könyvtár
REFRESH-INTERVAL;VALUE=DURATION:PT1H
X-Robots-Tag:noindex
X-PUBLISHED-TTL:PT1H
BEGIN:VTIMEZONE
TZID:Europe/Budapest
BEGIN:DAYLIGHT
TZOFFSETFROM:+0100
TZOFFSETTO:+0200
TZNAME:CEST
DTSTART:20250330T010000
END:DAYLIGHT
BEGIN:STANDARD
TZOFFSETFROM:+0200
TZOFFSETTO:+0100
TZNAME:CET
DTSTART:20251026T010000
END:STANDARD
BEGIN:DAYLIGHT
TZOFFSETFROM:+0100
TZOFFSETTO:+0200
TZNAME:CEST
DTSTART:20260329T010000
END:DAYLIGHT
BEGIN:STANDARD
TZOFFSETFROM:+0200
TZOFFSETTO:+0100
TZNAME:CET
DTSTART:20261025T010000
END:STANDARD
END:VTIMEZONE
BEGIN:VEVENT
DTSTART;TZID=Europe/Budapest:20251201T000000
DTEND;TZID=Europe/Budapest:20260531T235900
DTSTAMP:20260421T124142
CREATED:20260219T144854Z
LAST-MODIFIED:20260219T144854Z
UID:72719-1764547200-1780271940@www.kjmk.hu
SUMMARY:#influenszerkerestetik
DESCRIPTION:A kisujjadban van a rövid\, vicces videók készítése? Legyél Te a könyvtár arca! \nKészíts videót könyvtárunk tereiben\, küldd el\, és mi megalapozzuk saját követőbázisodat! \nHa tiéd a legnagyobb nézettség\, nyereményed egy erdélyi utazás! \nEgy pályázó több videót is küldhet\, így növelve esélyeit a győzelemre. \nAz akció ideje: 2025. december 1. – 2026. május 31. \nVideók beküldése és további információ: influenszerkerestetik@gmail.com
URL:https://www.kjmk.hu/esemeny/influenszerkerestetik/
LOCATION:Katona József Könyvtár\, Kecskemét\, Piaristák tere 8.\, Magyarország
CATEGORIES:Játék
ATTACH;FMTTYPE=image/jpeg:https://www.kjmk.hu/wp-content/uploads/influenszer_kerestetik_web.jpg
END:VEVENT
BEGIN:VEVENT
DTSTART;TZID=Europe/Budapest:20260113T090000
DTEND;TZID=Europe/Budapest:20260630T180000
DTSTAMP:20260421T124142
CREATED:20260112T115832Z
LAST-MODIFIED:20260112T115832Z
UID:69579-1768294800-1782842400@www.kjmk.hu
SUMMARY:Kecskemét krónikásai
DESCRIPTION:Dokumentumkiállítás a Helyismereti gyűjteményben. Megtekinthető a könyvtár nyitvatartási idejében.
URL:https://www.kjmk.hu/esemeny/kecskemet-kronikasai/
LOCATION:Katona József Könyvtár\, Kecskemét\, Piaristák tere 8.\, Magyarország
CATEGORIES:Kiállítás
ATTACH;FMTTYPE=image/jpeg:https://www.kjmk.hu/wp-content/uploads/Kecskemet_kronikasai_kiallitas_web.jpg
END:VEVENT
BEGIN:VEVENT
DTSTART;TZID=Europe/Budapest:20260115T090000
DTEND;TZID=Europe/Budapest:20260530T180000
DTSTAMP:20260421T124142
CREATED:20260115T122402Z
LAST-MODIFIED:20260115T122758Z
UID:69879-1768467600-1780164000@www.kjmk.hu
SUMMARY:Lapról hangra
DESCRIPTION:Hanggal kapcsolódva – egymást segítve. \nFelhangosítjuk az újságokat! Olvasson\, hogy más is „olvashasson”! \nVálasszon egy cikket és olvassa fel a látássérülteknek 2026. május 30-ig! \nTovábbi információ a 2. emeleti Zenei szolgáltatásban.
URL:https://www.kjmk.hu/esemeny/laprol-hangra/
LOCATION:Katona József Könyvtár\, Kecskemét\, Piaristák tere 8.\, Magyarország
CATEGORIES:Játék
ATTACH;FMTTYPE=image/jpeg:https://www.kjmk.hu/wp-content/uploads/Laprol_hangra_kihivas_web.jpg
END:VEVENT
BEGIN:VEVENT
DTSTART;TZID=Europe/Budapest:20260303T090000
DTEND;TZID=Europe/Budapest:20260430T180000
DTSTAMP:20260421T124142
CREATED:20260219T092859Z
LAST-MODIFIED:20260219T100058Z
UID:72686-1772528400-1777572000@www.kjmk.hu
SUMMARY:Alkotni jó!
DESCRIPTION:A Béke Általános Iskola rajz- és kerámiaszakköreinek kiállítása. \nTéma: a víz. \nMegnyitó: 2026. március 3. kedd\, 16.30 óra. \nA kiállítást megnyitja: Bereczki Károlyné\, a Béke Általános Iskola egykori rajztanára és szakkörvezetője. \nFacebook-esemény: https://www.facebook.com/events/1220146426931674
URL:https://www.kjmk.hu/esemeny/alkotni-jo/
LOCATION:Katona József Könyvtár\, Kecskemét\, Piaristák tere 8.\, Magyarország
CATEGORIES:Kiállítás
ATTACH;FMTTYPE=image/jpeg:https://www.kjmk.hu/wp-content/uploads/0303_Alkotni_jo_kiallitas_plakat_web.jpg
END:VEVENT
BEGIN:VEVENT
DTSTART;TZID=Europe/Budapest:20260313T150000
DTEND;TZID=Europe/Budapest:20260328T180000
DTSTAMP:20260421T124142
CREATED:20260303T105051Z
LAST-MODIFIED:20260303T105449Z
UID:73915-1773414000-1774720800@www.kjmk.hu
SUMMARY:Angyali kezek - Albena Max bolgár festőművész kiállítása
DESCRIPTION:Ünnepélyes megnyitó: 2026. március 13. péntek\, 15.00 óra. \nKöszöntőt mondanak: \n\nMaria Ivanova Anguelieve\, a Bolgár Köztársaság rendkívüli és meghatalmazott nagykövete\nDr. Bocskov Petrov Jordán\, a Bolgár Köztársaság tiszteletbeli konzulja\nVirág Barnabás\, a Katona József Könyvtár igazgatóhelyettese\nKis János evangélikus lelkész.\n\nKözreműködik: Kállai Erzsébet énekművész.\nZongorán kísér: Nemes Dóra.
URL:https://www.kjmk.hu/esemeny/angyali-kezek-albena-max-bolgar-festomuvesz-kiallitasa/
LOCATION:Katona József Könyvtár\, Kecskemét\, Piaristák tere 8.\, Magyarország
CATEGORIES:Kiállítás
ATTACH;FMTTYPE=image/jpeg:https://www.kjmk.hu/wp-content/uploads/Albena_Max_kiallitas_WEB.jpg
END:VEVENT
BEGIN:VEVENT
DTSTART;TZID=Europe/Budapest:20260324T090000
DTEND;TZID=Europe/Budapest:20260417T180000
DTSTAMP:20260421T124142
CREATED:20260417T111843Z
LAST-MODIFIED:20260417T111843Z
UID:81100-1774342800-1776448800@www.kjmk.hu
SUMMARY:Programok a Gyermek- és Tinivilágban
DESCRIPTION:Az elmúlt hetekben a történelemé volt a főszerep a Gyermek- és Tinivilágban. A Hunyadi-héthez kapcsolódva Mátyás király korával ismerkedtek a gyerekek\, író-olvasó találkozók keretében pedig Rojik Tamással és Trux Bélával beszélgethettek.\nÁprilis 24-ig pedig történelmi nyomkeresővel várjuk a Gyermekvilágba látogató kis nyomozókat. Bővebben
URL:https://www.kjmk.hu/esemeny/programok-a-gyermek-es-tinivilagban/
LOCATION:Katona József Könyvtár\, Kecskemét\, Piaristák tere 8.\, Magyarország
CATEGORIES:Híreink
END:VEVENT
BEGIN:VEVENT
DTSTART;TZID=Europe/Budapest:20260326T100000
DTEND;TZID=Europe/Budapest:20260326T120000
DTSTAMP:20260421T124142
CREATED:20260226T102309Z
LAST-MODIFIED:20260226T102309Z
UID:73306-1774519200-1774526400@www.kjmk.hu
SUMMARY:Babahancurka
DESCRIPTION:Mondókázó foglalkozás babáknak\, mamáknak\, papáknak 0-3 éves korig csütörtökönként 10 és 11 órától. \nA részvétel előzetes regisztrációhoz és Babaolvasójegyhez kötött: \n\ntelefon: 76/500-567\nonline: https://www.kjmk.hu/babahancurka/
URL:https://www.kjmk.hu/esemeny/babahancurka-320/
LOCATION:Katona József Könyvtár\, Kecskemét\, Piaristák tere 8.\, Magyarország
CATEGORIES:Könyvtári program
ATTACH;FMTTYPE=image/jpeg:https://www.kjmk.hu/wp-content/uploads/babahancurka_web_jav2-2.jpg
END:VEVENT
BEGIN:VEVENT
DTSTART;TZID=Europe/Budapest:20260326T140000
DTEND;TZID=Europe/Budapest:20260326T150000
DTSTAMP:20260421T124142
CREATED:20260226T120846Z
LAST-MODIFIED:20260226T120846Z
UID:73347-1774533600-1774537200@www.kjmk.hu
SUMMARY:Boldog szabadidő
DESCRIPTION:Irodalmi és beszélgetőkör társasjátékkal
URL:https://www.kjmk.hu/esemeny/boldog-szabadido-127/
LOCATION:Hunyadivárosi Fiókkönyvtár\, Kandó Kálmán u. 14.\, Kecskemét
CATEGORIES:Fiókkönyvtári program,Hunyadivárosi Fiókkönyvtár
END:VEVENT
BEGIN:VEVENT
DTSTART;TZID=Europe/Budapest:20260326T163000
DTEND;TZID=Europe/Budapest:20260326T173000
DTSTAMP:20260421T124142
CREATED:20260225T102433Z
LAST-MODIFIED:20260225T102433Z
UID:73168-1774542600-1774546200@www.kjmk.hu
SUMMARY:Filmbarbárok
DESCRIPTION:Havi filmes kibeszélő. \nTéma: Jancsó Miklós-életmű. \nFacebook-esemény: https://www.facebook.com/events/938441135409541
URL:https://www.kjmk.hu/esemeny/filmbarbarok-24/
LOCATION:Katona József Könyvtár\, Kecskemét\, Piaristák tere 8.\, Magyarország
CATEGORIES:Könyvtári program
ATTACH;FMTTYPE=image/jpeg:https://www.kjmk.hu/wp-content/uploads/filmbarbarok_web-1.jpg
END:VEVENT
BEGIN:VEVENT
DTSTART;TZID=Europe/Budapest:20260326T163000
DTEND;TZID=Europe/Budapest:20260326T173000
DTSTAMP:20260421T124142
CREATED:20260226T141910Z
LAST-MODIFIED:20260312T092305Z
UID:73400-1774542600-1774546200@www.kjmk.hu
SUMMARY:Mesedélután
DESCRIPTION:Zelk Zoltán: A gólya érkezése.\nVezeti: Pécsiné Crnkovics Márta könyvtáros.
URL:https://www.kjmk.hu/esemeny/mesedelutan-27/
LOCATION:Széchenyivárosi Fiókkönyvtár\, Széchenyi sétány 6.\, Kecskemét
CATEGORIES:Fiókkönyvtári program,Széchenyivárosi Fiókkönyvtár
END:VEVENT
BEGIN:VEVENT
DTSTART;TZID=Europe/Budapest:20260326T163000
DTEND;TZID=Europe/Budapest:20260326T180000
DTSTAMP:20260421T124142
CREATED:20260311T084802Z
LAST-MODIFIED:20260311T084802Z
UID:74526-1774542600-1774548000@www.kjmk.hu
SUMMARY:Utazók a könyvtárban - Namíbia\, Botswana\, Zimbabwe
DESCRIPTION:A könyvtár turisztikai előadás-sorozata. \nA Namib-sivatagtól a Viktória-vízesésig. Namíbia\, Botswana\, Zimbabwe. \nElőadó: Bardócz Attila tanár\, világutazó. \nE-mail: utazok@kjmk.hu. \nFacebook-esemény: https://www.facebook.com/events/2220300008714367
URL:https://www.kjmk.hu/esemeny/utazok-a-konyvtarban-namibia-botswana-zimbabwe/
LOCATION:Katona József Könyvtár\, Kecskemét\, Piaristák tere 8.\, Magyarország
CATEGORIES:Könyvtári program
ATTACH;FMTTYPE=image/jpeg:https://www.kjmk.hu/wp-content/uploads/utazok_web_jav.jpg
END:VEVENT
BEGIN:VEVENT
DTSTART;TZID=Europe/Budapest:20260326T163000
DTEND;TZID=Europe/Budapest:20260326T180000
DTSTAMP:20260421T124142
CREATED:20260311T084930Z
LAST-MODIFIED:20260325T152636Z
UID:74531-1774542600-1774548000@www.kjmk.hu
SUMMARY:ELMARAD - Star Wars Könyvtári Jedi Akadémia
DESCRIPTION:Galaktikus rekordok. \nVezeti: Molnár Dániel könyvtáros. \nOnline közösségünk: https://www.facebook.com/groups/konyvtarijediakademia/
URL:https://www.kjmk.hu/esemeny/star-wars-konyvtari-jedi-akademia-22/
LOCATION:Katona József Könyvtár\, Kecskemét\, Piaristák tere 8.\, Magyarország
CATEGORIES:Könyvtári program
ATTACH;FMTTYPE=image/jpeg:https://www.kjmk.hu/wp-content/uploads/jedi_web_alt2_elmarad.jpg
END:VEVENT
BEGIN:VEVENT
DTSTART;TZID=Europe/Budapest:20260326T163000
DTEND;TZID=Europe/Budapest:20260326T180000
DTSTAMP:20260421T124142
CREATED:20260401T060739Z
LAST-MODIFIED:20260401T061058Z
UID:77466-1774542600-1774548000@www.kjmk.hu
SUMMARY:Utazók a Könyvtárban - Namíbia\, Botswana\, Zimbabwe
DESCRIPTION:Az Utazók a könyvtárban sorozat vendége március 26-án Bardócz Attila földrajz-rajz szakos tanár volt\, aki évtizedek óta járja a világot. Afrikába sokáig nem kívánkozott\, mígnem kilenc éve\, akkor még egy utazási iroda szervezésében tett meg egy Namíbia\, Botswana\, Zimbabwe körutat\, amikor beleszeretett ebbe a földrészbe (is).\nA körúton a csoport nagyobbrészt Namíbiát járta be. A fotókon bemutatott tájak és az élővilág az előadás közönsége számára a Sivatagi show és Az oroszlánkirály című filmekből ismerősek lehettek. A homokfodros sivatag a hatalmas\, akár 400 méter magas homokdűnékkel\, amelynek vörös színét a benne található rengeteg vasérc adja. A Spitzkoppe kopasz gránit csúcsai és gömbjei; mivel a gránit kemény kőzet\, nem reped\, viszont mállik\, így alakultak ki ezek a formák. A fehér színű Halott mocsár kísérteties tája\, melynek fái noha 600-700 éve halottak\, de még mindig állnak\, mert annyira száraz a levegő\, hogy nem tudnak elkorhadni. Szőlőmadár\, hajnalbogár\, szarvcsőrű madár\, „tömegével” zsiráf\, zebra\, antilop\, strucc\, kis szerencsével oroszlán\, hiéna\, elefánt\, orrszarvú is látható\, bár a túl közeli találkozás utóbbiakkal nem ajánlott. Mindhárom országban hatalmas nemzeti parkok találhatóak\, példás a természet védelme. Az őslakosok élete azonban nagyon sokat változott. A busmanok már a fehérek által létrehozott nyomorúságos telepeken élnek\, és csak a turisták kedvéért térnek vissza sivatagi kunyhóikhoz\, hogy ott bemutassák ősi életmódjukat. Botswanában egy csónaktúrán vettek részt a turistacsoport tagjai\, ahol azon izgulhattak\, hogy ne keltsék fel a közhiedelemmel ellentétben kifejezetten agresszív víziló túlzott figyelmét. Zimbabwében a Viktória-vízesést\, a „Mennydörgő üstöt” keresték fel. Ez a Föld legszélesebb vízesése\, esős időszakban 1708 méter széles. A csoport száraz évszakban járt ott\, de a látvány így is lenyűgöző volt.\nAz előadás végén az érdeklődő közönségből még számtalan kérdés érkezett\, melyekre Bardócz Attila készségesen válaszolt. Bővebben
URL:https://www.kjmk.hu/esemeny/utazok-a-konyvtarban-namibia-botswana-zimbabwe-2/
LOCATION:Katona József Könyvtár\, Kecskemét\, Piaristák tere 8.\, Magyarország
CATEGORIES:Híreink
END:VEVENT
END:VCALENDAR