﻿BEGIN:VCALENDAR
VERSION:2.0
PRODID:-//Katona József Könyvtár - ECPv6.10.1.1//NONSGML v1.0//EN
CALSCALE:GREGORIAN
METHOD:PUBLISH
X-ORIGINAL-URL:https://www.kjmk.hu
X-WR-CALDESC:Events for Katona József Könyvtár
REFRESH-INTERVAL;VALUE=DURATION:PT1H
X-Robots-Tag:noindex
X-PUBLISHED-TTL:PT1H
BEGIN:VTIMEZONE
TZID:Europe/Budapest
BEGIN:DAYLIGHT
TZOFFSETFROM:+0100
TZOFFSETTO:+0200
TZNAME:CEST
DTSTART:20250330T010000
END:DAYLIGHT
BEGIN:STANDARD
TZOFFSETFROM:+0200
TZOFFSETTO:+0100
TZNAME:CET
DTSTART:20251026T010000
END:STANDARD
BEGIN:DAYLIGHT
TZOFFSETFROM:+0100
TZOFFSETTO:+0200
TZNAME:CEST
DTSTART:20260329T010000
END:DAYLIGHT
BEGIN:STANDARD
TZOFFSETFROM:+0200
TZOFFSETTO:+0100
TZNAME:CET
DTSTART:20261025T010000
END:STANDARD
END:VTIMEZONE
BEGIN:VEVENT
DTSTART;TZID=Europe/Budapest:20251201T000000
DTEND;TZID=Europe/Budapest:20260531T235900
DTSTAMP:20260421T113014
CREATED:20260219T144854Z
LAST-MODIFIED:20260219T144854Z
UID:72719-1764547200-1780271940@www.kjmk.hu
SUMMARY:#influenszerkerestetik
DESCRIPTION:A kisujjadban van a rövid\, vicces videók készítése? Legyél Te a könyvtár arca! \nKészíts videót könyvtárunk tereiben\, küldd el\, és mi megalapozzuk saját követőbázisodat! \nHa tiéd a legnagyobb nézettség\, nyereményed egy erdélyi utazás! \nEgy pályázó több videót is küldhet\, így növelve esélyeit a győzelemre. \nAz akció ideje: 2025. december 1. – 2026. május 31. \nVideók beküldése és további információ: influenszerkerestetik@gmail.com
URL:https://www.kjmk.hu/esemeny/influenszerkerestetik/
LOCATION:Katona József Könyvtár\, Kecskemét\, Piaristák tere 8.\, Magyarország
CATEGORIES:Játék
ATTACH;FMTTYPE=image/jpeg:https://www.kjmk.hu/wp-content/uploads/influenszer_kerestetik_web.jpg
END:VEVENT
BEGIN:VEVENT
DTSTART;TZID=Europe/Budapest:20260113T090000
DTEND;TZID=Europe/Budapest:20260630T180000
DTSTAMP:20260421T113014
CREATED:20260112T115832Z
LAST-MODIFIED:20260112T115832Z
UID:69579-1768294800-1782842400@www.kjmk.hu
SUMMARY:Kecskemét krónikásai
DESCRIPTION:Dokumentumkiállítás a Helyismereti gyűjteményben. Megtekinthető a könyvtár nyitvatartási idejében.
URL:https://www.kjmk.hu/esemeny/kecskemet-kronikasai/
LOCATION:Katona József Könyvtár\, Kecskemét\, Piaristák tere 8.\, Magyarország
CATEGORIES:Kiállítás
ATTACH;FMTTYPE=image/jpeg:https://www.kjmk.hu/wp-content/uploads/Kecskemet_kronikasai_kiallitas_web.jpg
END:VEVENT
BEGIN:VEVENT
DTSTART;TZID=Europe/Budapest:20260115T090000
DTEND;TZID=Europe/Budapest:20260530T180000
DTSTAMP:20260421T113014
CREATED:20260115T122402Z
LAST-MODIFIED:20260115T122758Z
UID:69879-1768467600-1780164000@www.kjmk.hu
SUMMARY:Lapról hangra
DESCRIPTION:Hanggal kapcsolódva – egymást segítve. \nFelhangosítjuk az újságokat! Olvasson\, hogy más is „olvashasson”! \nVálasszon egy cikket és olvassa fel a látássérülteknek 2026. május 30-ig! \nTovábbi információ a 2. emeleti Zenei szolgáltatásban.
URL:https://www.kjmk.hu/esemeny/laprol-hangra/
LOCATION:Katona József Könyvtár\, Kecskemét\, Piaristák tere 8.\, Magyarország
CATEGORIES:Játék
ATTACH;FMTTYPE=image/jpeg:https://www.kjmk.hu/wp-content/uploads/Laprol_hangra_kihivas_web.jpg
END:VEVENT
BEGIN:VEVENT
DTSTART;TZID=Europe/Budapest:20260303T090000
DTEND;TZID=Europe/Budapest:20260430T180000
DTSTAMP:20260421T113014
CREATED:20260219T092859Z
LAST-MODIFIED:20260219T100058Z
UID:72686-1772528400-1777572000@www.kjmk.hu
SUMMARY:Alkotni jó!
DESCRIPTION:A Béke Általános Iskola rajz- és kerámiaszakköreinek kiállítása. \nTéma: a víz. \nMegnyitó: 2026. március 3. kedd\, 16.30 óra. \nA kiállítást megnyitja: Bereczki Károlyné\, a Béke Általános Iskola egykori rajztanára és szakkörvezetője. \nFacebook-esemény: https://www.facebook.com/events/1220146426931674
URL:https://www.kjmk.hu/esemeny/alkotni-jo/
LOCATION:Katona József Könyvtár\, Kecskemét\, Piaristák tere 8.\, Magyarország
CATEGORIES:Kiállítás
ATTACH;FMTTYPE=image/jpeg:https://www.kjmk.hu/wp-content/uploads/0303_Alkotni_jo_kiallitas_plakat_web.jpg
END:VEVENT
BEGIN:VEVENT
DTSTART;TZID=Europe/Budapest:20260324T090000
DTEND;TZID=Europe/Budapest:20260417T180000
DTSTAMP:20260421T113014
CREATED:20260417T111843Z
LAST-MODIFIED:20260417T111843Z
UID:81100-1774342800-1776448800@www.kjmk.hu
SUMMARY:Programok a Gyermek- és Tinivilágban
DESCRIPTION:Az elmúlt hetekben a történelemé volt a főszerep a Gyermek- és Tinivilágban. A Hunyadi-héthez kapcsolódva Mátyás király korával ismerkedtek a gyerekek\, író-olvasó találkozók keretében pedig Rojik Tamással és Trux Bélával beszélgethettek.\nÁprilis 24-ig pedig történelmi nyomkeresővel várjuk a Gyermekvilágba látogató kis nyomozókat. Bővebben
URL:https://www.kjmk.hu/esemeny/programok-a-gyermek-es-tinivilagban/
LOCATION:Katona József Könyvtár\, Kecskemét\, Piaristák tere 8.\, Magyarország
CATEGORIES:Híreink
END:VEVENT
BEGIN:VEVENT
DTSTART;TZID=Europe/Budapest:20260402T100000
DTEND;TZID=Europe/Budapest:20260402T120000
DTSTAMP:20260421T113014
CREATED:20260327T075148Z
LAST-MODIFIED:20260327T075148Z
UID:76592-1775124000-1775131200@www.kjmk.hu
SUMMARY:Babahancurka
DESCRIPTION:Mondókázó foglalkozás babáknak\, mamáknak\, papáknak 0-3 éves korig csütörtökönként 10 és 11 órától. \nA részvétel előzetes regisztrációhoz és Babaolvasójegyhez kötött: \n\ntelefon: 76/500-567\nonline: https://www.kjmk.hu/babahancurka/
URL:https://www.kjmk.hu/esemeny/babahancurka-324/
LOCATION:Katona József Könyvtár\, Kecskemét\, Piaristák tere 8.\, Magyarország
CATEGORIES:Könyvtári program
ATTACH;FMTTYPE=image/jpeg:https://www.kjmk.hu/wp-content/uploads/babahancurka_web_jav2-2.jpg
END:VEVENT
BEGIN:VEVENT
DTSTART;TZID=Europe/Budapest:20260402T140000
DTEND;TZID=Europe/Budapest:20260402T150000
DTSTAMP:20260421T113014
CREATED:20260326T085529Z
LAST-MODIFIED:20260326T085529Z
UID:76294-1775138400-1775142000@www.kjmk.hu
SUMMARY:Boldog szabadidő
DESCRIPTION:Irodalmi és beszélgetőkör társasjátékkal
URL:https://www.kjmk.hu/esemeny/boldog-szabadido-128/
LOCATION:Hunyadivárosi Fiókkönyvtár\, Kandó Kálmán u. 14.\, Kecskemét
CATEGORIES:Fiókkönyvtári program,Hunyadivárosi Fiókkönyvtár
END:VEVENT
BEGIN:VEVENT
DTSTART;TZID=Europe/Budapest:20260402T160000
DTEND;TZID=Europe/Budapest:20260402T170000
DTSTAMP:20260421T113014
CREATED:20260327T083915Z
LAST-MODIFIED:20260327T083915Z
UID:76638-1775145600-1775149200@www.kjmk.hu
SUMMARY:Kézműves klub
DESCRIPTION:
URL:https://www.kjmk.hu/esemeny/kezmuves-klub/
LOCATION:Hetényegyházi Fiókkönyvtár\, Posta utca 3.\, Kecskemét-Hetényegyháza
CATEGORIES:Fiókkönyvtári program,Hetényegyházi Fiókkönyvtár
END:VEVENT
BEGIN:VEVENT
DTSTART;TZID=Europe/Budapest:20260402T163000
DTEND;TZID=Europe/Budapest:20260402T173000
DTSTAMP:20260421T113014
CREATED:20260326T091441Z
LAST-MODIFIED:20260331T084631Z
UID:76312-1775147400-1775151000@www.kjmk.hu
SUMMARY:Mesedélután
DESCRIPTION:Zelk Zoltán: Mese a legokosabb nyúlról. \nA foglalkozást vezeti: Pécsiné Crnkovics Márta könyvtáros.
URL:https://www.kjmk.hu/esemeny/mesedelutan-29/
LOCATION:Széchenyivárosi Fiókkönyvtár\, Széchenyi sétány 6.\, Kecskemét
CATEGORIES:Fiókkönyvtári program,Széchenyivárosi Fiókkönyvtár
END:VEVENT
BEGIN:VEVENT
DTSTART;TZID=Europe/Budapest:20260402T163000
DTEND;TZID=Europe/Budapest:20260402T180000
DTSTAMP:20260421T113014
CREATED:20260313T120559Z
LAST-MODIFIED:20260313T120559Z
UID:74854-1775147400-1775152800@www.kjmk.hu
SUMMARY:Harry Potter Klub
DESCRIPTION:Fanfictionök. \nVezeti: Molnár-Faragó Éva könyvtáros. \nKeressen minket a Facebookon is: https://facebook.com/groups/maraudermuggles.
URL:https://www.kjmk.hu/esemeny/harry-potter-klub-73/
LOCATION:Katona József Könyvtár\, Kecskemét\, Piaristák tere 8.\, Magyarország
CATEGORIES:Könyvtári program
ATTACH;FMTTYPE=image/jpeg:https://www.kjmk.hu/wp-content/uploads/HP_web_alt2-2.jpg
END:VEVENT
BEGIN:VEVENT
DTSTART;TZID=Europe/Budapest:20260402T164500
DTEND;TZID=Europe/Budapest:20260402T173000
DTSTAMP:20260421T113014
CREATED:20260327T104822Z
LAST-MODIFIED:20260327T104822Z
UID:76682-1775148300-1775151000@www.kjmk.hu
SUMMARY:Mesedélután
DESCRIPTION:Spongyabob húsvéti ünnepe \n 
URL:https://www.kjmk.hu/esemeny/mesedelutan-32/
LOCATION:Ménteleki Fiókkönyvtár\, Kecskeméti út 41.\, Méntelek
CATEGORIES:Fiókkönyvtári program,Ménteleki Fiókkönyvtár
END:VEVENT
BEGIN:VEVENT
DTSTART;TZID=Europe/Budapest:20260402T180000
DTEND;TZID=Europe/Budapest:20260402T190000
DTSTAMP:20260421T113014
CREATED:20260310T151814Z
LAST-MODIFIED:20260310T151814Z
UID:74465-1775152800-1775156400@www.kjmk.hu
SUMMARY:G.B. Pergolesi: Stabat mater
DESCRIPTION:G.B. Pergolesi: Stabat mater\n  \nIdőpont: 2026. április 2. nagycsütörtök\, 18 óra\nzenés áhítat a Kecskeméti Református Kollégium dísztermében\nHelyszín: Kecskemét\, Szabadság tér 7. \nKözreműködnek a Szegedi Bartók Béla Művészeti Kar hallgatói: \nSipos Rita Veronika- szoprán\nBaliga Anita- alt\nNagy Janka- zongora \nA hangverseny ingyenes\, minden érdeklődőt szeretettel várunk!
URL:https://www.kjmk.hu/esemeny/g-b-pergolesi-stabat-mater/
LOCATION:Kecskemét Református Újkollégium\, Szabdság tér 7.\, Kecskemét\, Bács-Kiskun\, 6000
CATEGORIES:Kecskeméti koncertélet,Klasszikus zene
ATTACH;FMTTYPE=image/png:https://www.kjmk.hu/wp-content/uploads/Pergolesi-stabat-mater.png
END:VEVENT
END:VCALENDAR