﻿BEGIN:VCALENDAR
VERSION:2.0
PRODID:-//Katona József Könyvtár - ECPv6.10.1.1//NONSGML v1.0//EN
CALSCALE:GREGORIAN
METHOD:PUBLISH
X-WR-CALNAME:Katona József Könyvtár
X-ORIGINAL-URL:https://www.kjmk.hu
X-WR-CALDESC:Events for Katona József Könyvtár
REFRESH-INTERVAL;VALUE=DURATION:PT1H
X-Robots-Tag:noindex
X-PUBLISHED-TTL:PT1H
BEGIN:VTIMEZONE
TZID:Europe/Budapest
BEGIN:DAYLIGHT
TZOFFSETFROM:+0100
TZOFFSETTO:+0200
TZNAME:CEST
DTSTART:20250330T010000
END:DAYLIGHT
BEGIN:STANDARD
TZOFFSETFROM:+0200
TZOFFSETTO:+0100
TZNAME:CET
DTSTART:20251026T010000
END:STANDARD
BEGIN:DAYLIGHT
TZOFFSETFROM:+0100
TZOFFSETTO:+0200
TZNAME:CEST
DTSTART:20260329T010000
END:DAYLIGHT
BEGIN:STANDARD
TZOFFSETFROM:+0200
TZOFFSETTO:+0100
TZNAME:CET
DTSTART:20261025T010000
END:STANDARD
END:VTIMEZONE
BEGIN:VEVENT
DTSTART;TZID=Europe/Budapest:20251201T000000
DTEND;TZID=Europe/Budapest:20260531T235900
DTSTAMP:20260419T151247
CREATED:20260219T144854Z
LAST-MODIFIED:20260219T144854Z
UID:72719-1764547200-1780271940@www.kjmk.hu
SUMMARY:#influenszerkerestetik
DESCRIPTION:A kisujjadban van a rövid\, vicces videók készítése? Legyél Te a könyvtár arca! \nKészíts videót könyvtárunk tereiben\, küldd el\, és mi megalapozzuk saját követőbázisodat! \nHa tiéd a legnagyobb nézettség\, nyereményed egy erdélyi utazás! \nEgy pályázó több videót is küldhet\, így növelve esélyeit a győzelemre. \nAz akció ideje: 2025. december 1. – 2026. május 31. \nVideók beküldése és további információ: influenszerkerestetik@gmail.com
URL:https://www.kjmk.hu/esemeny/influenszerkerestetik/
LOCATION:Katona József Könyvtár\, Kecskemét\, Piaristák tere 8.\, Magyarország
CATEGORIES:Játék
ATTACH;FMTTYPE=image/jpeg:https://www.kjmk.hu/wp-content/uploads/influenszer_kerestetik_web.jpg
END:VEVENT
BEGIN:VEVENT
DTSTART;TZID=Europe/Budapest:20260113T090000
DTEND;TZID=Europe/Budapest:20260630T180000
DTSTAMP:20260419T151247
CREATED:20260112T115832Z
LAST-MODIFIED:20260112T115832Z
UID:69579-1768294800-1782842400@www.kjmk.hu
SUMMARY:Kecskemét krónikásai
DESCRIPTION:Dokumentumkiállítás a Helyismereti gyűjteményben. Megtekinthető a könyvtár nyitvatartási idejében.
URL:https://www.kjmk.hu/esemeny/kecskemet-kronikasai/
LOCATION:Katona József Könyvtár\, Kecskemét\, Piaristák tere 8.\, Magyarország
CATEGORIES:Kiállítás
ATTACH;FMTTYPE=image/jpeg:https://www.kjmk.hu/wp-content/uploads/Kecskemet_kronikasai_kiallitas_web.jpg
END:VEVENT
BEGIN:VEVENT
DTSTART;TZID=Europe/Budapest:20260115T090000
DTEND;TZID=Europe/Budapest:20260530T180000
DTSTAMP:20260419T151247
CREATED:20260115T122402Z
LAST-MODIFIED:20260115T122758Z
UID:69879-1768467600-1780164000@www.kjmk.hu
SUMMARY:Lapról hangra
DESCRIPTION:Hanggal kapcsolódva – egymást segítve. \nFelhangosítjuk az újságokat! Olvasson\, hogy más is „olvashasson”! \nVálasszon egy cikket és olvassa fel a látássérülteknek 2026. május 30-ig! \nTovábbi információ a 2. emeleti Zenei szolgáltatásban.
URL:https://www.kjmk.hu/esemeny/laprol-hangra/
LOCATION:Katona József Könyvtár\, Kecskemét\, Piaristák tere 8.\, Magyarország
CATEGORIES:Játék
ATTACH;FMTTYPE=image/jpeg:https://www.kjmk.hu/wp-content/uploads/Laprol_hangra_kihivas_web.jpg
END:VEVENT
BEGIN:VEVENT
DTSTART;TZID=Europe/Budapest:20260303T090000
DTEND;TZID=Europe/Budapest:20260430T180000
DTSTAMP:20260419T151247
CREATED:20260219T092859Z
LAST-MODIFIED:20260219T100058Z
UID:72686-1772528400-1777572000@www.kjmk.hu
SUMMARY:Alkotni jó!
DESCRIPTION:A Béke Általános Iskola rajz- és kerámiaszakköreinek kiállítása. \nTéma: a víz. \nMegnyitó: 2026. március 3. kedd\, 16.30 óra. \nA kiállítást megnyitja: Bereczki Károlyné\, a Béke Általános Iskola egykori rajztanára és szakkörvezetője. \nFacebook-esemény: https://www.facebook.com/events/1220146426931674
URL:https://www.kjmk.hu/esemeny/alkotni-jo/
LOCATION:Katona József Könyvtár\, Kecskemét\, Piaristák tere 8.\, Magyarország
CATEGORIES:Kiállítás
ATTACH;FMTTYPE=image/jpeg:https://www.kjmk.hu/wp-content/uploads/0303_Alkotni_jo_kiallitas_plakat_web.jpg
END:VEVENT
BEGIN:VEVENT
DTSTART;TZID=Europe/Budapest:20260324T090000
DTEND;TZID=Europe/Budapest:20260417T180000
DTSTAMP:20260419T151248
CREATED:20260417T111843Z
LAST-MODIFIED:20260417T111843Z
UID:81100-1774342800-1776448800@www.kjmk.hu
SUMMARY:Programok a Gyermek- és Tinivilágban
DESCRIPTION:Az elmúlt hetekben a történelemé volt a főszerep a Gyermek- és Tinivilágban. A Hunyadi-héthez kapcsolódva Mátyás király korával ismerkedtek a gyerekek\, író-olvasó találkozók keretében pedig Rojik Tamással és Trux Bélával beszélgethettek.\nÁprilis 24-ig pedig történelmi nyomkeresővel várjuk a Gyermekvilágba látogató kis nyomozókat. Bővebben
URL:https://www.kjmk.hu/esemeny/programok-a-gyermek-es-tinivilagban/
LOCATION:Katona József Könyvtár\, Kecskemét\, Piaristák tere 8.\, Magyarország
CATEGORIES:Híreink
END:VEVENT
BEGIN:VEVENT
DTSTART;TZID=Europe/Budapest:20260411T100000
DTEND;TZID=Europe/Budapest:20260511T110000
DTSTAMP:20260419T151248
CREATED:20260326T084759Z
LAST-MODIFIED:20260326T084759Z
UID:76292-1775901600-1778497200@www.kjmk.hu
SUMMARY:Láss babaszemmel!
DESCRIPTION:Előadás a stimulációk hatásáról. Milyen média segíti a gyermek fejlődését? Mit nézzünk a televízióban? \n 
URL:https://www.kjmk.hu/esemeny/lass-babaszemmel/
LOCATION:Hunyadivárosi Fiókkönyvtár\, Kandó Kálmán u. 14.\, Kecskemét
CATEGORIES:Fiókkönyvtári program,Hunyadivárosi Fiókkönyvtár
END:VEVENT
BEGIN:VEVENT
DTSTART;TZID=Europe/Budapest:20260414T000000
DTEND;TZID=Europe/Budapest:20260417T000000
DTSTAMP:20260419T151248
CREATED:20260305T094132Z
LAST-MODIFIED:20260305T102244Z
UID:74084-1776124800-1776384000@www.kjmk.hu
SUMMARY:Hunyadi-hét
DESCRIPTION:Izgalmas történelmi vetélkedőre várjuk a diákokat! \nCélcsoport: felső tagozatos általános iskolások\nCsapatlétszám: 30 fő + kísérőtanár\nCsapatnév: a Hunyadiakhoz kapcsolódó név \nA csapatok négy különböző állomáson teljesítenek feladatokat és gyűjtik a pontokat. \nEgy intézményből több csapat is jelentkezhet.\nA részvétel érvényes könyvtári olvasójegyhez kötött (25 év alatt az olvasójegy ingyenes).\nJelentkezési határidő: március 13. \nJelentkezés: hunyadihet@gmail.com   +36-30/651-9540 \nMegnyitó és pódiumbeszélgetés: március 14. 10 óra\nA pódiumbeszélgetés vendégei: Bán Mór író\, Kádár L. Gellért színművész\, Juhász László kaszkadőr
URL:https://www.kjmk.hu/esemeny/hunyadi-het-3/
LOCATION:Katona József Könyvtár\, Kecskemét\, Piaristák tere 8.\, Magyarország
CATEGORIES:Játék
ATTACH;FMTTYPE=image/png:https://www.kjmk.hu/wp-content/uploads/001HUNYADI-1.png
END:VEVENT
BEGIN:VEVENT
DTSTART;TZID=Europe/Budapest:20260414T090000
DTEND;TZID=Europe/Budapest:20260424T180000
DTSTAMP:20260419T151248
CREATED:20260414T085232Z
LAST-MODIFIED:20260414T095939Z
UID:80848-1776157200-1777053600@www.kjmk.hu
SUMMARY:Holló és kard - történelmi nyomkereső
DESCRIPTION:Sorsolás: 2026. április 25. szombat\, 15.00 óra.
URL:https://www.kjmk.hu/esemeny/hollo-es-kard-tortenelmi-nyomkereso/
LOCATION:Katona József Könyvtár\, Kecskemét\, Piaristák tere 8.\, Magyarország
CATEGORIES:Játék
ATTACH;FMTTYPE=image/jpeg:https://www.kjmk.hu/wp-content/uploads/Hollo_es_kard_nyomkereso_web.jpg
END:VEVENT
BEGIN:VEVENT
DTSTART;TZID=Europe/Budapest:20260414T090000
DTEND;TZID=Europe/Budapest:20260424T180000
DTSTAMP:20260419T151248
CREATED:20260415T131107Z
LAST-MODIFIED:20260415T131107Z
UID:80984-1776157200-1777053600@www.kjmk.hu
SUMMARY:Fejedelmi fejtörők - történelmi nyomkereső
DESCRIPTION:Sorsolás: 2026. április 25. szombat\, 15.00 óra.
URL:https://www.kjmk.hu/esemeny/fejedelmi-fejtorok-tortenelmi-nyomkereso/
LOCATION:Katona József Könyvtár\, Kecskemét\, Piaristák tere 8.\, Magyarország
CATEGORIES:Játék
ATTACH;FMTTYPE=image/jpeg:https://www.kjmk.hu/wp-content/uploads/Fejedelmi-fejtorok_nyomkereso_web.jpg
END:VEVENT
BEGIN:VEVENT
DTSTART;TZID=Europe/Budapest:20260414T140000
DTEND;TZID=Europe/Budapest:20260414T150000
DTSTAMP:20260419T151248
CREATED:20260326T083704Z
LAST-MODIFIED:20260326T083704Z
UID:76283-1776175200-1776178800@www.kjmk.hu
SUMMARY:Mesedélután
DESCRIPTION:Marék Veronika: Mese valakiről\, aki mogorva és goromba volt
URL:https://www.kjmk.hu/esemeny/mesedelutan-28/
LOCATION:Petőfivárosi Fiókkönyvtár\, Alkony u. 11.\, Kecskemét
CATEGORIES:Fiókkönyvtári program,Petőfivárosi Fiókkönyvtár
END:VEVENT
BEGIN:VEVENT
DTSTART;TZID=Europe/Budapest:20260414T150000
DTEND;TZID=Europe/Budapest:20260414T160000
DTSTAMP:20260419T151248
CREATED:20260323T101639Z
LAST-MODIFIED:20260323T101639Z
UID:75785-1776178800-1776182400@www.kjmk.hu
SUMMARY:Könyvtári robotóra
DESCRIPTION:Robotika\, robotprogramozás önállóan vagy segítséggel\, Lego Ev3 robotokkal. \nA foglalkozást vezeti: Molnár Dániel könyvtáros. \nA részvétel regisztrációhoz kötött! https://www.kjmk.hu/jelentkezes-robotika-foglalkozasokra/ \nKeresse a Kreatív stúdiót a Facebookon is! https://www.facebook.com/groups/kjkkreativstudio
URL:https://www.kjmk.hu/esemeny/konyvtari-robotora-309/
LOCATION:Katona József Könyvtár\, Kecskemét\, Piaristák tere 8.\, Magyarország
CATEGORIES:Könyvtári program
ATTACH;FMTTYPE=image/jpeg:https://www.kjmk.hu/wp-content/uploads/konyvtari_robotora_web-2.jpg
END:VEVENT
BEGIN:VEVENT
DTSTART;TZID=Europe/Budapest:20260414T163000
DTEND;TZID=Europe/Budapest:20260414T180000
DTSTAMP:20260419T151248
CREATED:20260309T095521Z
LAST-MODIFIED:20260309T095521Z
UID:74358-1776184200-1776189600@www.kjmk.hu
SUMMARY:Biblioterápiás foglalkozás
DESCRIPTION:Foglalkozásvezető: Muráncsik Mónika irodalomterapeuta\nA foglalkozás előzetes regisztrációhoz kötött! \n\nszemélyesen a II. emeleti Zenei gyűjteményben\ne-mailben: onetextcloser@gmail.com.\nlegkésőbb 2026. április 11-ig.\n\nTovábbi részletek\, információk: http://www.kjmk.hu/biblioterapia
URL:https://www.kjmk.hu/esemeny/biblioterapias-foglalkozas-37/
LOCATION:Katona József Könyvtár\, Kecskemét\, Piaristák tere 8.\, Magyarország
CATEGORIES:Könyvtári program
ATTACH;FMTTYPE=image/jpeg:https://www.kjmk.hu/wp-content/uploads/biblioterapia_web.jpg
END:VEVENT
BEGIN:VEVENT
DTSTART;TZID=Europe/Budapest:20260414T170000
DTEND;TZID=Europe/Budapest:20260414T180000
DTSTAMP:20260419T151248
CREATED:20260223T091712Z
LAST-MODIFIED:20260223T091712Z
UID:72976-1776186000-1776189600@www.kjmk.hu
SUMMARY:A XX. század zenéje
DESCRIPTION:A program a Muzsikáló évszázadok című zenei előadás-sorozat része. \nElőadó: Dr. Kovács Sándor zenetörténész. \nFacebook-esemény: https://www.facebook.com/events/1678280336669709
URL:https://www.kjmk.hu/esemeny/a-xx-szazad-zeneje/
LOCATION:Katona József Könyvtár\, Kecskemét\, Piaristák tere 8.\, Magyarország
CATEGORIES:Könyvtári program
ATTACH;FMTTYPE=image/jpeg:https://www.kjmk.hu/wp-content/uploads/0414_A_XX_szazad_zeneje_Dr_Kovacs_Sandor_web.jpg
END:VEVENT
BEGIN:VEVENT
DTSTART;TZID=Europe/Budapest:20260414T170000
DTEND;TZID=Europe/Budapest:20260414T180000
DTSTAMP:20260419T151248
CREATED:20260323T101801Z
LAST-MODIFIED:20260323T101801Z
UID:75786-1776186000-1776189600@www.kjmk.hu
SUMMARY:Könyvtári robotóra
DESCRIPTION:Robotika\, robotprogramozás önállóan vagy segítséggel\, Lego Ev3 robotokkal. \nA foglalkozást vezeti: Molnár Dániel könyvtáros. \nA részvétel regisztrációhoz kötött! https://www.kjmk.hu/jelentkezes-robotika-foglalkozasokra/ \nKeresse a Kreatív stúdiót a Facebookon is! https://www.facebook.com/groups/kjkkreativstudio
URL:https://www.kjmk.hu/esemeny/konyvtari-robotora-310/
LOCATION:Katona József Könyvtár\, Kecskemét\, Piaristák tere 8.\, Magyarország
CATEGORIES:Könyvtári program
ATTACH;FMTTYPE=image/jpeg:https://www.kjmk.hu/wp-content/uploads/konyvtari_robotora_web-2.jpg
END:VEVENT
BEGIN:VEVENT
DTSTART;TZID=Europe/Budapest:20260415T100000
DTEND;TZID=Europe/Budapest:20260415T110000
DTSTAMP:20260419T151248
CREATED:20260401T091634Z
LAST-MODIFIED:20260401T091634Z
UID:77488-1776247200-1776250800@www.kjmk.hu
SUMMARY:A torony titka - író-olvasó találkozó
DESCRIPTION:Vendégünk: Trux Béla regényíró.
URL:https://www.kjmk.hu/esemeny/a-torony-titka-iro-olvaso-talalkozo/
LOCATION:Katona József Könyvtár\, Kecskemét\, Piaristák tere 8.\, Magyarország
CATEGORIES:Könyvtári program
ATTACH;FMTTYPE=image/jpeg:https://www.kjmk.hu/wp-content/uploads/0415_Trux_Bela_Torony_titka_web.jpg
END:VEVENT
BEGIN:VEVENT
DTSTART;TZID=Europe/Budapest:20260415T130000
DTEND;TZID=Europe/Budapest:20260415T140000
DTSTAMP:20260419T151248
CREATED:20260401T091847Z
LAST-MODIFIED:20260401T092120Z
UID:77490-1776258000-1776261600@www.kjmk.hu
SUMMARY:A torony titka - író-olvasó találkozó
DESCRIPTION:Vendégünk: Trux Béla regényíró.
URL:https://www.kjmk.hu/esemeny/a-torony-titka-iro-olvaso-talalkozo-2/
LOCATION:Kadafalvi Fiókkönyvtár\, Boróka utca 4.\, Kecskemét-Kadafalva\, 6000
CATEGORIES:Fiókkönyvtári program
END:VEVENT
BEGIN:VEVENT
DTSTART;TZID=Europe/Budapest:20260415T134500
DTEND;TZID=Europe/Budapest:20260415T170000
DTSTAMP:20260419T151248
CREATED:20260414T153937Z
LAST-MODIFIED:20260414T153937Z
UID:80884-1776260700-1776272400@www.kjmk.hu
SUMMARY:Nagy Versmondás a Költészet Napja tiszteletére
DESCRIPTION:Nagy Versmondás a Költészet Napja tiszteletére\n  \nHelyszín: Kecskemét – Főtér \nA Kecskeméti Hírös Agóra Kulturális\, Művészeti és Ifjúsági Központ Nonprofit Kft. valamint a Kecskeméti Drámapedagógiai Műhely idén 30. alkalommal rendezi meg a Versmondók Találkozóját\, melynek keretén belül a Költészet Napja alkalmából mindenkit szeretettel várunk egy NAGY versmondásra. \nA nagy közös költészeti ünnepen három költő verse\, illetve versrészlete fog felcsendülni akiknek ebben az évben emlékezünk meg születésének kerek évfordulójáról Zelk Zoltán 120. Buda Ferenc és\, Csukás István 90. \nA műsorban közreműködnek:\n-Kodály Iskola Antanténusz Gyermekkórusa\nkarnagy: Szegedi Ildikó\n-Palotás Endre (szaxofon\, ének)\, Pelle József (gitár) Mikecz Álmos (kahon) \nA verseket előmondja: Buda Ádám a költő fia \nGyülekezés: április 15-én\, szerdán 13.45 óráig a Városháza előtt. \nFőpróba: 14.00 óra \nVárunk szeretettel minden verset kedvelő kicsit és nagyot! \nA program támogatója a Nemzeti Kulturális Alap.
URL:https://www.kjmk.hu/esemeny/nagy-versmondas-a-kolteszet-napja-tiszteletere/
LOCATION:Hírös Agóra Kulturális és Ifjúsági Központ\, Kecskemét\, Deák Ferenc tér 1.\, 6000
CATEGORIES:Ismeretterjesztő program,Kecskeméti koncertélet
ATTACH;FMTTYPE=image/png:https://www.kjmk.hu/wp-content/uploads/nagy-versmondas.png
END:VEVENT
BEGIN:VEVENT
DTSTART;TZID=Europe/Budapest:20260415T163000
DTEND;TZID=Europe/Budapest:20260415T180000
DTSTAMP:20260419T151248
CREATED:20260318T092036Z
LAST-MODIFIED:20260410T074323Z
UID:75146-1776270600-1776276000@www.kjmk.hu
SUMMARY:Ars poetica könyvtári versklub
DESCRIPTION:Vátesz – a múltban íródott jövőképek. \nVezeti: Vámos Tibor tájékoztató könyvtáros. \nAz egyes alkalmakra kérjük\, feltétlen hozzon magával egy klasszikus\, kortárs vagy saját alkotást\, melyet felolvashat/elszavalhat a jelenlévőknek! \nKorábban bemutatkozott amatőr alkotók munkái: https://www.kjmk.hu/ars-poetica-konyvtari-versklub \nFacebook-esemény: https://www.facebook.com/events/1840130940022047
URL:https://www.kjmk.hu/esemeny/ars-poetica-konyvtari-versklub-42/
LOCATION:Katona József Könyvtár\, Kecskemét\, Piaristák tere 8.\, Magyarország
CATEGORIES:Könyvtári program
ATTACH;FMTTYPE=image/jpeg:https://www.kjmk.hu/wp-content/uploads/0415_Vatesz_Ars_poetica_web_.jpg
END:VEVENT
BEGIN:VEVENT
DTSTART;TZID=Europe/Budapest:20260415T163000
DTEND;TZID=Europe/Budapest:20260415T180000
DTSTAMP:20260419T151248
CREATED:20260327T083620Z
LAST-MODIFIED:20260327T083620Z
UID:76629-1776270600-1776276000@www.kjmk.hu
SUMMARY:Tini (könyv)molyoló klub
DESCRIPTION:Hősök és ősök. Csaták és szövetségek a könyvlapokon. \nVezeti: Magyar Janka könyvtáros. \nFacebook-esemény: https://www.facebook.com/events/971394648559801
URL:https://www.kjmk.hu/esemeny/tini-konyvmolyolo-klub/
LOCATION:Katona József Könyvtár\, Kecskemét\, Piaristák tere 8.\, Magyarország
CATEGORIES:Könyvtári program
ATTACH;FMTTYPE=image/jpeg:https://www.kjmk.hu/wp-content/uploads/0415_Hosok_es_osok_web.jpg
END:VEVENT
BEGIN:VEVENT
DTSTART;TZID=Europe/Budapest:20260415T170000
DTEND;TZID=Europe/Budapest:20260415T180000
DTSTAMP:20260419T151248
CREATED:20260323T101815Z
LAST-MODIFIED:20260323T101815Z
UID:75787-1776272400-1776276000@www.kjmk.hu
SUMMARY:Könyvtári robotóra
DESCRIPTION:Robotika\, robotprogramozás önállóan vagy segítséggel\, Lego Ev3 robotokkal. \nA foglalkozást vezeti: Molnár Dániel könyvtáros. \nA részvétel regisztrációhoz kötött! https://www.kjmk.hu/jelentkezes-robotika-foglalkozasokra/ \nKeresse a Kreatív stúdiót a Facebookon is! https://www.facebook.com/groups/kjkkreativstudio
URL:https://www.kjmk.hu/esemeny/konyvtari-robotora-311/
LOCATION:Katona József Könyvtár\, Kecskemét\, Piaristák tere 8.\, Magyarország
CATEGORIES:Könyvtári program
ATTACH;FMTTYPE=image/jpeg:https://www.kjmk.hu/wp-content/uploads/konyvtari_robotora_web-2.jpg
END:VEVENT
BEGIN:VEVENT
DTSTART;TZID=Europe/Budapest:20260416T100000
DTEND;TZID=Europe/Budapest:20260416T120000
DTSTAMP:20260419T151248
CREATED:20260327T075151Z
LAST-MODIFIED:20260327T075151Z
UID:76594-1776333600-1776340800@www.kjmk.hu
SUMMARY:Babahancurka
DESCRIPTION:Mondókázó foglalkozás babáknak\, mamáknak\, papáknak 0-3 éves korig csütörtökönként 10 és 11 órától. \nA részvétel előzetes regisztrációhoz és Babaolvasójegyhez kötött: \n\ntelefon: 76/500-567\nonline: https://www.kjmk.hu/babahancurka/
URL:https://www.kjmk.hu/esemeny/babahancurka-326/
LOCATION:Katona József Könyvtár\, Kecskemét\, Piaristák tere 8.\, Magyarország
CATEGORIES:Könyvtári program
ATTACH;FMTTYPE=image/jpeg:https://www.kjmk.hu/wp-content/uploads/babahancurka_web_jav2-2.jpg
END:VEVENT
BEGIN:VEVENT
DTSTART;TZID=Europe/Budapest:20260416T140000
DTEND;TZID=Europe/Budapest:20260416T150000
DTSTAMP:20260419T151248
CREATED:20260326T085931Z
LAST-MODIFIED:20260326T085931Z
UID:76301-1776348000-1776351600@www.kjmk.hu
SUMMARY:Boldog szabadidő
DESCRIPTION:Irodalmi és beszélgetőkör társasjátékkal
URL:https://www.kjmk.hu/esemeny/boldog-szabadido-130/
LOCATION:Hunyadivárosi Fiókkönyvtár\, Kandó Kálmán u. 14.\, Kecskemét
CATEGORIES:Fiókkönyvtári program,Hunyadivárosi Fiókkönyvtár
END:VEVENT
BEGIN:VEVENT
DTSTART;TZID=Europe/Budapest:20260416T160000
DTEND;TZID=Europe/Budapest:20260416T170000
DTSTAMP:20260419T151248
CREATED:20260327T084045Z
LAST-MODIFIED:20260327T084045Z
UID:76641-1776355200-1776358800@www.kjmk.hu
SUMMARY:Kézműves klub
DESCRIPTION:
URL:https://www.kjmk.hu/esemeny/kezmuves-klub-2/
LOCATION:Hetényegyházi Fiókkönyvtár\, Posta utca 3.\, Kecskemét-Hetényegyháza
CATEGORIES:Fiókkönyvtári program,Hetényegyházi Fiókkönyvtár
END:VEVENT
BEGIN:VEVENT
DTSTART;TZID=Europe/Budapest:20260416T163000
DTEND;TZID=Europe/Budapest:20260416T173000
DTSTAMP:20260419T151248
CREATED:20260326T093514Z
LAST-MODIFIED:20260410T073503Z
UID:76323-1776357000-1776360600@www.kjmk.hu
SUMMARY:Mesedélután
DESCRIPTION:Zelk Zoltán: Az égig érő körtefa. \nA foglalkozást vezeti: Pécsiné Crnkovics Márta könyvtáros.
URL:https://www.kjmk.hu/esemeny/mesedelutan-30/
LOCATION:Széchenyivárosi Fiókkönyvtár\, Széchenyi sétány 6.\, Kecskemét
CATEGORIES:Fiókkönyvtári program,Széchenyivárosi Fiókkönyvtár
END:VEVENT
BEGIN:VEVENT
DTSTART;TZID=Europe/Budapest:20260416T163000
DTEND;TZID=Europe/Budapest:20260416T180000
DTSTAMP:20260419T151248
CREATED:20260326T120112Z
LAST-MODIFIED:20260326T123630Z
UID:76381-1776357000-1776362400@www.kjmk.hu
SUMMARY:Sci-fi kedvelők találkozója
DESCRIPTION:Amerika kapitány – A tél katonája. \nBeszélgetés TV-sorozatokról\, könyvekről\, képregényekről. \nVezeti: Herega Zoltán könyvtáros. \nFacebook-esemény: https://www.facebook.com/events/1428079069332811/
URL:https://www.kjmk.hu/esemeny/sci-fi-kedvelok-talalkozoja-51/
LOCATION:Katona József Könyvtár\, Kecskemét\, Piaristák tere 8.\, Magyarország
CATEGORIES:Könyvtári program
ATTACH;FMTTYPE=image/jpeg:https://www.kjmk.hu/wp-content/uploads/0416_Amerika_kapitany_A_tel_katonaja_web.jpg
END:VEVENT
BEGIN:VEVENT
DTSTART;TZID=Europe/Budapest:20260417T093000
DTEND;TZID=Europe/Budapest:20260417T103000
DTSTAMP:20260419T151248
CREATED:20260327T083044Z
LAST-MODIFIED:20260327T083044Z
UID:76623-1776418200-1776421800@www.kjmk.hu
SUMMARY:Baba-mama klub
DESCRIPTION:
URL:https://www.kjmk.hu/esemeny/baba-mama-klub-26/
LOCATION:Hetényegyházi Fiókkönyvtár\, Posta utca 3.\, Kecskemét-Hetényegyháza
CATEGORIES:Fiókkönyvtári program,Hetényegyházi Fiókkönyvtár
END:VEVENT
BEGIN:VEVENT
DTSTART;TZID=Europe/Budapest:20260417T100000
DTEND;TZID=Europe/Budapest:20260417T110000
DTSTAMP:20260419T151248
CREATED:20260323T103121Z
LAST-MODIFIED:20260323T103121Z
UID:75820-1776420000-1776423600@www.kjmk.hu
SUMMARY:Helen Doron angol baba-mama foglalkozás
DESCRIPTION:Havi rendszerességű\, ingyenes angol baba-mama foglalkozás várja 3 hónapostól 2 éves korig a babákat. Kérjük\, jelezzék előzetesen részvételi szándékukat!\nEgy-egy foglalkozásra maximum 15 egészséges apróságot és kísérőjét (anyát\, apát\, nagyszülőt) várunk.\nFelhívjuk a kedves jelentkezők figyelmét\, hogy az egyes alkalmak minimum 5 főtől kerülnek megtartásra. Az esetlegesen elmaradó foglalkozásokról a regisztráltakat e-mail üzenetben értesítjük. Szíves megértésüket köszönjük! \nOnline regisztráció és további részletek:https://www.kjmk.hu/helen-doron/
URL:https://www.kjmk.hu/esemeny/helen-doron-angol-baba-mama-foglalkozas-79/
LOCATION:Katona József Könyvtár\, Kecskemét\, Piaristák tere 8.\, Magyarország
CATEGORIES:Könyvtári program
ATTACH;FMTTYPE=image/jpeg:https://www.kjmk.hu/wp-content/uploads/helen_doron_baba_web-1.jpg
END:VEVENT
BEGIN:VEVENT
DTSTART;TZID=Europe/Budapest:20260417T100000
DTEND;TZID=Europe/Budapest:20260417T110000
DTSTAMP:20260419T151248
CREATED:20260417T114334Z
LAST-MODIFIED:20260417T114647Z
UID:81102-1776420000-1776423600@www.kjmk.hu
SUMMARY:Helen Doron angol baba-mama foglalkozás
DESCRIPTION:A mai Helen Doron English & Espanol Kecskemét angol babafoglalkozásán tizenöt izgő-mozgó lurkó lépett rá a idegen nyelvi elsajátítás útjára. Legyen szó eszközös\, mozgásos vagy zenés feladatokról\, a kicsik játszva\, szivacsként szívják magukba a tudást\, abból is legfőképp a hangzó készletet\, ami segíti őket a későbbi\, akcentus nélküli beszédben.\n\n\nKövetkező hónapban ismét találkozunk. Kövesse figyelemmel közösségi oldalunkat és/vagy honlapunkat\, ahol közzétesszük a májusi időpontot!  Bővebben
URL:https://www.kjmk.hu/esemeny/helen-doron-angol-baba-mama-foglalkozas-80/
LOCATION:Katona József Könyvtár\, Kecskemét\, Piaristák tere 8.\, Magyarország
CATEGORIES:Híreink
END:VEVENT
BEGIN:VEVENT
DTSTART;TZID=Europe/Budapest:20260417T160000
DTEND;TZID=Europe/Budapest:20260417T170000
DTSTAMP:20260419T151248
CREATED:20260323T115221Z
LAST-MODIFIED:20260323T120054Z
UID:75833-1776441600-1776445200@www.kjmk.hu
SUMMARY:MI robotépítők
DESCRIPTION:Haladó robotépítés a mesterséges intelligencia segítségével 10 éves kortól. \nA foglalkozást vezeti: Molnár Dániel könyvtáros. \nA foglalkozáson a részvétel olvasói tagsághoz és regisztrációhoz kötött! https://www.kjmk.hu/jelentkezes-robotika-foglalkozasokra/ \nKeresse a Kreatív stúdiót a Facebookon is! https://www.facebook.com/groups/kjkkreativstudio
URL:https://www.kjmk.hu/esemeny/mi-robotepitok-25/
LOCATION:Katona József Könyvtár\, Kecskemét\, Piaristák tere 8.\, Magyarország
CATEGORIES:Könyvtári program
ATTACH;FMTTYPE=image/jpeg:https://www.kjmk.hu/wp-content/uploads/MI_robotepitok_WEB.jpg
END:VEVENT
BEGIN:VEVENT
DTSTART;TZID=Europe/Budapest:20260417T163000
DTEND;TZID=Europe/Budapest:20260417T173000
DTSTAMP:20260419T151248
CREATED:20260320T142228Z
LAST-MODIFIED:20260320T143208Z
UID:75389-1776443400-1776447000@www.kjmk.hu
SUMMARY:Csiri-bee
DESCRIPTION:Ovis játékos angol foglalkozás. \nVezeti: Nickl Petra gyermekkönyvtáros. \nA foglalkozás ingyenes\, de regisztrációhoz és kölyökolvasójegyhez kötött. \nJelentkezés: https://www.kjmk.hu/csiri-bee/
URL:https://www.kjmk.hu/esemeny/csiri-bee-4/
LOCATION:Katona József Könyvtár\, Kecskemét\, Piaristák tere 8.\, Magyarország
CATEGORIES:Könyvtári program
ATTACH;FMTTYPE=image/jpeg:https://www.kjmk.hu/wp-content/uploads/Csiri-bee__web.jpg
END:VEVENT
END:VCALENDAR