﻿BEGIN:VCALENDAR
VERSION:2.0
PRODID:-//Katona József Könyvtár - ECPv6.10.1.1//NONSGML v1.0//EN
CALSCALE:GREGORIAN
METHOD:PUBLISH
X-WR-CALNAME:Katona József Könyvtár
X-ORIGINAL-URL:https://www.kjmk.hu
X-WR-CALDESC:Events for Katona József Könyvtár
REFRESH-INTERVAL;VALUE=DURATION:PT1H
X-Robots-Tag:noindex
X-PUBLISHED-TTL:PT1H
BEGIN:VTIMEZONE
TZID:Europe/Budapest
BEGIN:DAYLIGHT
TZOFFSETFROM:+0100
TZOFFSETTO:+0200
TZNAME:CEST
DTSTART:20250330T010000
END:DAYLIGHT
BEGIN:STANDARD
TZOFFSETFROM:+0200
TZOFFSETTO:+0100
TZNAME:CET
DTSTART:20251026T010000
END:STANDARD
BEGIN:DAYLIGHT
TZOFFSETFROM:+0100
TZOFFSETTO:+0200
TZNAME:CEST
DTSTART:20260329T010000
END:DAYLIGHT
BEGIN:STANDARD
TZOFFSETFROM:+0200
TZOFFSETTO:+0100
TZNAME:CET
DTSTART:20261025T010000
END:STANDARD
END:VTIMEZONE
BEGIN:VEVENT
DTSTART;TZID=Europe/Budapest:20251201T000000
DTEND;TZID=Europe/Budapest:20260531T235900
DTSTAMP:20260423T113819
CREATED:20260219T144854Z
LAST-MODIFIED:20260423T082747Z
UID:72719-1764547200-1780271940@www.kjmk.hu
SUMMARY:#influenszerkerestetik
DESCRIPTION:A kisujjadban van a rövid\, vicces videók készítése? Legyél Te a könyvtár arca! \nKészíts videót könyvtárunk tereiben\, küldd el\, és mi megalapozzuk saját követőbázisodat! \nHa tiéd a legnagyobb nézettség\, nyereményed egy erdélyi utazás! \nEgy pályázó több videót is küldhet\, így növelve esélyeit a győzelemre. \nAz akció ideje: 2025. december 1. – 2026. május 31. \nVideók beküldése és további információ: influenszerkerestetik@gmail.com
URL:https://www.kjmk.hu/esemeny/influenszerkerestetik/
LOCATION:Katona József Könyvtár\, Kecskemét\, Piaristák tere 8.\, Magyarország
CATEGORIES:Játék
ATTACH;FMTTYPE=image/jpeg:https://www.kjmk.hu/wp-content/uploads/influenszerkerestetik_web.jpg
END:VEVENT
BEGIN:VEVENT
DTSTART;TZID=Europe/Budapest:20260113T090000
DTEND;TZID=Europe/Budapest:20260630T180000
DTSTAMP:20260423T113819
CREATED:20260112T115832Z
LAST-MODIFIED:20260112T115832Z
UID:69579-1768294800-1782842400@www.kjmk.hu
SUMMARY:Kecskemét krónikásai
DESCRIPTION:Dokumentumkiállítás a Helyismereti gyűjteményben. Megtekinthető a könyvtár nyitvatartási idejében.
URL:https://www.kjmk.hu/esemeny/kecskemet-kronikasai/
LOCATION:Katona József Könyvtár\, Kecskemét\, Piaristák tere 8.\, Magyarország
CATEGORIES:Kiállítás
ATTACH;FMTTYPE=image/jpeg:https://www.kjmk.hu/wp-content/uploads/Kecskemet_kronikasai_kiallitas_web.jpg
END:VEVENT
BEGIN:VEVENT
DTSTART;TZID=Europe/Budapest:20260115T090000
DTEND;TZID=Europe/Budapest:20260530T180000
DTSTAMP:20260423T113819
CREATED:20260115T122402Z
LAST-MODIFIED:20260423T082741Z
UID:69879-1768467600-1780164000@www.kjmk.hu
SUMMARY:Lapról hangra
DESCRIPTION:Hanggal kapcsolódva – egymást segítve. \nFelhangosítjuk az újságokat! Olvasson\, hogy más is „olvashasson”! \nVálasszon egy cikket és olvassa fel a látássérülteknek 2026. május 30-ig! \nTovábbi információ a 2. emeleti Zenei szolgáltatásban.
URL:https://www.kjmk.hu/esemeny/laprol-hangra/
LOCATION:Katona József Könyvtár\, Kecskemét\, Piaristák tere 8.\, Magyarország
CATEGORIES:Játék
ATTACH;FMTTYPE=image/jpeg:https://www.kjmk.hu/wp-content/uploads/Laprol_hangra_web.jpg
END:VEVENT
BEGIN:VEVENT
DTSTART;TZID=Europe/Budapest:20260411T100000
DTEND;TZID=Europe/Budapest:20260511T110000
DTSTAMP:20260423T113819
CREATED:20260326T084759Z
LAST-MODIFIED:20260326T084759Z
UID:76292-1775901600-1778497200@www.kjmk.hu
SUMMARY:Láss babaszemmel!
DESCRIPTION:Előadás a stimulációk hatásáról. Milyen média segíti a gyermek fejlődését? Mit nézzünk a televízióban? \n 
URL:https://www.kjmk.hu/esemeny/lass-babaszemmel/
LOCATION:Hunyadivárosi Fiókkönyvtár\, Kandó Kálmán u. 14.\, Kecskemét
CATEGORIES:Fiókkönyvtári program,Hunyadivárosi Fiókkönyvtár
END:VEVENT
BEGIN:VEVENT
DTSTART;TZID=Europe/Budapest:20260424T163000
DTEND;TZID=Europe/Budapest:20260508T180000
DTSTAMP:20260423T113819
CREATED:20260407T091444Z
LAST-MODIFIED:20260407T091444Z
UID:79040-1777048200-1778263200@www.kjmk.hu
SUMMARY:Kis-Máté Etelka alkotó kiállítása
DESCRIPTION:Kiállításmegnyitó: 2026. április 24. péntek\, 16.30 óra. \nA kiállítást megnyitja: Somorjai Réka drámaíró\, pszichológus.
URL:https://www.kjmk.hu/esemeny/kis-mate-etelka-alkoto-kiallitasa/
LOCATION:Katona József Könyvtár\, Kecskemét\, Piaristák tere 8.\, Magyarország
CATEGORIES:Kiállítás
ATTACH;FMTTYPE=image/jpeg:https://www.kjmk.hu/wp-content/uploads/0424_Kis-Mate_Etelka_kiallitas_web.jpg
END:VEVENT
BEGIN:VEVENT
DTSTART;TZID=Europe/Budapest:20260505T150000
DTEND;TZID=Europe/Budapest:20260505T160000
DTSTAMP:20260423T113819
CREATED:20260421T132851Z
LAST-MODIFIED:20260421T132851Z
UID:81239-1777993200-1777996800@www.kjmk.hu
SUMMARY:Könyvtári robotóra
DESCRIPTION:Robotika\, robotprogramozás önállóan vagy segítséggel\, Lego Ev3 robotokkal. \nA foglalkozást vezeti: Molnár Dániel könyvtáros. \nA részvétel regisztrációhoz kötött! https://www.kjmk.hu/jelentkezes-robotika-foglalkozasokra/ \nKeresse a Kreatív stúdiót a Facebookon is! https://www.facebook.com/groups/kjkkreativstudio
URL:https://www.kjmk.hu/esemeny/konyvtari-robotora-316/
LOCATION:Katona József Könyvtár\, Kecskemét\, Piaristák tere 8.\, Magyarország
CATEGORIES:Könyvtári program
ATTACH;FMTTYPE=image/jpeg:https://www.kjmk.hu/wp-content/uploads/konyvtari_robotora_web-2.jpg
END:VEVENT
BEGIN:VEVENT
DTSTART;TZID=Europe/Budapest:20260505T170000
DTEND;TZID=Europe/Budapest:20260505T180000
DTSTAMP:20260423T113819
CREATED:20260323T085413Z
LAST-MODIFIED:20260323T085702Z
UID:75751-1778000400-1778004000@www.kjmk.hu
SUMMARY:A korona ékköve - II. Erzsébet 100 éve (3. rész)
DESCRIPTION:Előadó: László Ferenc történész. \nIdén tavasszal lesz 100 esztendeje annak\, hogy megszületett II. Erzsébet\, és ez az évforduló remek alkalmat teremt ahhoz\, hogy megemlékezzünk a brit történelem leghosszabb ideig regnáló és tán legnépszerűbb uralkodójáról\, a Windsor-ház egykori fejéről\, a korszakos stílusikonról. László Ferenc jubileumi előadássorozata ennek jegyében idézi majd a közönség elé három estén át a királynő személyiségét\, családi életének és államfői tevékenységének ismert vagy éppenséggel nem is sejtett mozzanatait. Valamint azt\, miként kísérte II. Erzsébetet uralkodása során a nyilvánosság és a média szoros figyelme\, és alakja hogyan vált ennek révén megannyi film\, sorozat és könyv témájává. \nFacebook-esemény: https://www.facebook.com/events/920197297437849
URL:https://www.kjmk.hu/esemeny/a-korona-ekkove-ii-erzsebet-100-eve-3-resz/
LOCATION:Katona József Könyvtár\, Kecskemét\, Piaristák tere 8.\, Magyarország
CATEGORIES:Könyvtári program
ATTACH;FMTTYPE=image/jpeg:https://www.kjmk.hu/wp-content/uploads/0407_A_korona_ekkove_web.jpg
END:VEVENT
BEGIN:VEVENT
DTSTART;TZID=Europe/Budapest:20260505T170000
DTEND;TZID=Europe/Budapest:20260505T180000
DTSTAMP:20260423T113819
CREATED:20260323T102413Z
LAST-MODIFIED:20260323T102413Z
UID:75808-1778000400-1778004000@www.kjmk.hu
SUMMARY:Könyvtári robotóra
DESCRIPTION:Robotika\, robotprogramozás önállóan vagy segítséggel\, Lego Ev3 robotokkal. \nA foglalkozást vezeti: Molnár Dániel könyvtáros. \nA részvétel regisztrációhoz kötött! https://www.kjmk.hu/jelentkezes-robotika-foglalkozasokra/ \nKeresse a Kreatív stúdiót a Facebookon is! https://www.facebook.com/groups/kjkkreativstudio
URL:https://www.kjmk.hu/esemeny/konyvtari-robotora-318/
LOCATION:Katona József Könyvtár\, Kecskemét\, Piaristák tere 8.\, Magyarország
CATEGORIES:Könyvtári program
ATTACH;FMTTYPE=image/jpeg:https://www.kjmk.hu/wp-content/uploads/konyvtari_robotora_web-2.jpg
END:VEVENT
BEGIN:VEVENT
DTSTART;TZID=Europe/Budapest:20260505T170000
DTEND;TZID=Europe/Budapest:20260505T180000
DTSTAMP:20260423T113819
CREATED:20260421T132925Z
LAST-MODIFIED:20260421T132925Z
UID:81244-1778000400-1778004000@www.kjmk.hu
SUMMARY:Könyvtári robotóra
DESCRIPTION:Robotika\, robotprogramozás önállóan vagy segítséggel\, Lego Ev3 robotokkal. \nA foglalkozást vezeti: Molnár Dániel könyvtáros. \nA részvétel regisztrációhoz kötött! https://www.kjmk.hu/jelentkezes-robotika-foglalkozasokra/ \nKeresse a Kreatív stúdiót a Facebookon is! https://www.facebook.com/groups/kjkkreativstudio
URL:https://www.kjmk.hu/esemeny/konyvtari-robotora-319/
LOCATION:Katona József Könyvtár\, Kecskemét\, Piaristák tere 8.\, Magyarország
CATEGORIES:Könyvtári program
ATTACH;FMTTYPE=image/jpeg:https://www.kjmk.hu/wp-content/uploads/konyvtari_robotora_web-2.jpg
END:VEVENT
BEGIN:VEVENT
DTSTART;TZID=Europe/Budapest:20260506T164500
DTEND;TZID=Europe/Budapest:20260506T174500
DTSTAMP:20260423T113819
CREATED:20260421T131208Z
LAST-MODIFIED:20260421T132214Z
UID:81215-1778085900-1778089500@www.kjmk.hu
SUMMARY:A tűzoltók napja - mesedélután
DESCRIPTION:Totó\, az óvoda tűzoltója. \nA foglalkozást vezeti: Kovács Evelin könyvtáros.
URL:https://www.kjmk.hu/esemeny/a-tuzoltok-napja-mesedelutan/
LOCATION:Ménteleki Fiókkönyvtár\, Kecskeméti út 41.\, Méntelek
CATEGORIES:Fiókkönyvtári program,Ménteleki Fiókkönyvtár
END:VEVENT
BEGIN:VEVENT
DTSTART;TZID=Europe/Budapest:20260506T170000
DTEND;TZID=Europe/Budapest:20260506T180000
DTSTAMP:20260423T113819
CREATED:20260421T133039Z
LAST-MODIFIED:20260421T133039Z
UID:81245-1778086800-1778090400@www.kjmk.hu
SUMMARY:Könyvtári robotóra
DESCRIPTION:Robotika\, robotprogramozás önállóan vagy segítséggel\, Lego Ev3 robotokkal. \nA foglalkozást vezeti: Molnár Dániel könyvtáros. \nA részvétel regisztrációhoz kötött! https://www.kjmk.hu/jelentkezes-robotika-foglalkozasokra/ \nKeresse a Kreatív stúdiót a Facebookon is! https://www.facebook.com/groups/kjkkreativstudio
URL:https://www.kjmk.hu/esemeny/konyvtari-robotora-320/
LOCATION:Katona József Könyvtár\, Kecskemét\, Piaristák tere 8.\, Magyarország
CATEGORIES:Könyvtári program
ATTACH;FMTTYPE=image/jpeg:https://www.kjmk.hu/wp-content/uploads/konyvtari_robotora_web-2.jpg
END:VEVENT
BEGIN:VEVENT
DTSTART;TZID=Europe/Budapest:20260507T163000
DTEND;TZID=Europe/Budapest:20260507T180000
DTSTAMP:20260423T113819
CREATED:20260415T082014Z
LAST-MODIFIED:20260415T082014Z
UID:80936-1778171400-1778176800@www.kjmk.hu
SUMMARY:Harry Potter Klub
DESCRIPTION:Rajongói filmek. \nVezeti: Molnár-Faragó Éva könyvtáros. \nKeressen minket a Facebookon is: facebook.com/groups/maraudermugglesfacebook.com/groups/maraudermuggles.
URL:https://www.kjmk.hu/esemeny/harry-potter-klub-74/
LOCATION:Katona József Könyvtár\, Kecskemét\, Piaristák tere 8.\, Magyarország
CATEGORIES:Könyvtári program
ATTACH;FMTTYPE=image/jpeg:https://www.kjmk.hu/wp-content/uploads/HP_web_alt2-2.jpg
END:VEVENT
BEGIN:VEVENT
DTSTART;TZID=Europe/Budapest:20260508T100000
DTEND;TZID=Europe/Budapest:20260508T110000
DTSTAMP:20260423T113819
CREATED:20260414T112747Z
LAST-MODIFIED:20260415T114331Z
UID:80861-1778234400-1778238000@www.kjmk.hu
SUMMARY:Babahancurka
DESCRIPTION:Mondókázó a Petőfivárosi Fiókkönyvtárban babáknak\, anyukáknak\, apukáknak \nMinimális létszám: 5 baba\nA program ingyenes\, de regisztrációhoz kötött!\nJelentkezés: https://www.kjmk.hu/babahancurka/
URL:https://www.kjmk.hu/esemeny/babahancurka-331/
LOCATION:Petőfivárosi Fiókkönyvtár\, Alkony u. 11.\, Kecskemét
CATEGORIES:Fiókkönyvtári program,Petőfivárosi Fiókkönyvtár
END:VEVENT
BEGIN:VEVENT
DTSTART;TZID=Europe/Budapest:20260508T190000
DTEND;TZID=Europe/Budapest:20260508T210000
DTSTAMP:20260423T113819
CREATED:20251111T102718Z
LAST-MODIFIED:20251111T102718Z
UID:64418-1778266800-1778274000@www.kjmk.hu
SUMMARY:BAROKK BÉRLET „OTTONI”
DESCRIPTION:BAROKK BÉRLET\n„OTTONI”\nÉLŐ BAROKK – A HÍRÖS AGÓRA KONCERTSOROZATA A KECSKEMÉTI SZIMFONIKUS ZENEKARRAL \nHelyszín: Evangélikus templom \n2026. május 8. péntek 19.00\n„OTTONI”\nMűsor:\nHans Leo Hassler: Suite for Double brass choir\nHenry Purcell: Artúr király nyitány\nGiovannoni Gabrieli: Sonata Pian’e Forte\nJ.S. Bach: Brandenburg Concerto No. 3\nJ.S. Bach: Három korál (I. Jesu bleibet meine Freude\, II. Wachet auf\, ruft uns die Stimme\, III. Ich ruf’ zu dir\, Herr Jesu Christ)\nG. F. Handel:Tűzijáték-szvit:  I. Bourreé II. Menuet III. La Rejouissance\nJean-Joseph Mouret: 1é Suites des Symphonies I. Rondeau II. Gracieusement III. Allegro\nKözreműködik: Kecskeméti Szimfonikus Zenekar Rézfúvós Együttese\nVezényel: Hollókői Huba \n3 alkalmas bérlet: 12.000 Ft\nJegyárak: Normál jegy: 4.800 Ft\, Diákjegy: 1.500 Ft\, Kecskemét kártyával: 4.320 Ft\, Nyugdíjas jegy: 4.320 Ft \nBarokk bérlet: https://hirosagora.jegy.hu/seasonticket/buy/756/514
URL:https://www.kjmk.hu/esemeny/barokk-berlet-ottoni/
LOCATION:Hírös Agóra Kulturális és Ifjúsági Központ\, Kecskemét\, Deák Ferenc tér 1.\, 6000
CATEGORIES:Kecskeméti koncertélet,Klasszikus zene
END:VEVENT
BEGIN:VEVENT
DTSTART;TZID=Europe/Budapest:20260509T100000
DTEND;TZID=Europe/Budapest:20260509T110000
DTSTAMP:20260423T113819
CREATED:20260421T124826Z
LAST-MODIFIED:20260421T124826Z
UID:81191-1778320800-1778324400@www.kjmk.hu
SUMMARY:Pandakalandok
DESCRIPTION:Képernyőmentes állatos\, robotos szerepjáték. \nA foglalkozást vezeti: Molnár Dániel könyvtáros. \nA foglalkozáson a részvétel olvasói tagsághoz és regisztrációhoz kötött! \nJelentkezés: https://www.kjmk.hu/jelentkezes-robotika-foglalkozasokra/ \nKeresse a Kreatív stúdiót a Facebookon is! https://www.facebook.com/groups/kjkkreativstudio
URL:https://www.kjmk.hu/esemeny/pandakalandok-46/
LOCATION:Katona József Könyvtár\, Kecskemét\, Piaristák tere 8.\, Magyarország
CATEGORIES:Könyvtári program
ATTACH;FMTTYPE=image/jpeg:https://www.kjmk.hu/wp-content/uploads/Pandakalandok_WEB.jpg
END:VEVENT
BEGIN:VEVENT
DTSTART;TZID=Europe/Budapest:20260509T100000
DTEND;TZID=Europe/Budapest:20260509T110000
DTSTAMP:20260423T113819
CREATED:20260421T131701Z
LAST-MODIFIED:20260421T131701Z
UID:81220-1778320800-1778324400@www.kjmk.hu
SUMMARY:Madarak és fák napja - mesedélelőtt
DESCRIPTION:Gufó a fák ünnepén. \nA foglalkozást vezeti: Kovács Evelin könyvtáros. \nMadárka készítés.
URL:https://www.kjmk.hu/esemeny/madarak-es-fak-napja-mesedelelott/
LOCATION:Ménteleki Fiókkönyvtár\, Kecskeméti út 41.\, Méntelek
CATEGORIES:Fiókkönyvtári program,Ménteleki Fiókkönyvtár
END:VEVENT
BEGIN:VEVENT
DTSTART;TZID=Europe/Budapest:20260509T150000
DTEND;TZID=Europe/Budapest:20260509T160000
DTSTAMP:20260423T113819
CREATED:20260421T125453Z
LAST-MODIFIED:20260421T125911Z
UID:81203-1778338800-1778342400@www.kjmk.hu
SUMMARY:Robotika kicsikkel Sphero INDI kocsirobotokkal
DESCRIPTION:A Sphero INDI kocsirobotokkal már az egészen kicsik is bátran elkezdhetik az ismerkedést a robotika világával. A színkódokkal történő irányítás segít az előre tervezés\, a kreativitás\, hibakeresés és problémamegoldás fejlesztésében\, mindezt úgy\, hogy nincs szükség számítógép vagy tablet használatára.\nAjánlott életkor: 5-10 év között\, érvényes olvasói tagság birtokában.\nMaximális résztvevői szám: 4 fő \nJelentkezés: https://www.kjmk.hu/jelentkezes-robotika-foglalkozasokra/ \n \n  \n 
URL:https://www.kjmk.hu/esemeny/robotika-kicsikkel-sphero-indi-kocsirobotokkal-2/
LOCATION:Katona József Könyvtár\, Kecskemét\, Piaristák tere 8.\, Magyarország
CATEGORIES:Könyvtári program
ATTACH;FMTTYPE=image/jpeg:https://www.kjmk.hu/wp-content/uploads/robotika_kicsiknek_web-1.jpg
END:VEVENT
BEGIN:VEVENT
DTSTART;TZID=Europe/Budapest:20260509T190000
DTEND;TZID=Europe/Budapest:20260509T210000
DTSTAMP:20260423T113819
CREATED:20260312T090100Z
LAST-MODIFIED:20260312T090100Z
UID:74650-1778353200-1778360400@www.kjmk.hu
SUMMARY:HOT JAZZ BAND KONCERT
DESCRIPTION:HOT JAZZ BAND KONCERT\n  \nA 2025-ben 40 éves fennállását ünneplő Hot Jazz Band zenekar leginkább a korai jazz és a két világháború közötti magyar könnyűzenei termés Karády\, Kabos\, Jávor\, Latabár filmek zenéinek korhű megszólaltatóiként ismer és szeret a hazai hallgatóság.\nAz 1990-es évek második felében egyedüli magyar jazz-zenekarként négy nemzetközi versenyt nyertek Franciaországban\, ezek közt a legkiemelkedőbb a St. Raphael-ben megrendezett Nemzetközi New Orleans Jazz Verseny\, ahol 54 zenekar közül hozták el az első díjat. Az amerikai sikerek sem maradtak el a zenekar életéből. A jazz szülőhazájában hat ízben jártak. A kaliforniai Sacramento-ban\, a világ legnagyobb szabású jazz-találkozóján kétszer voltak a fesztivál legnépszerűbb zenekara. Tavaly jelent meg 14. lemezük „egy kis malac” címmel\, ami főként a gyerekeknek íródott dalokból áll. A Hot Jazz Band kétszer részesült eMeRTon díjban\, megkapta a Líra-díjat\, a Louis Armstrong Emlékdíjat\, az Ezüst Életfa díjat\, 2015-ben Kossuth-díjat kapta meg. A kobuci kertben felcsendülnek majd a legismertebb feldolgozások\, mint az én babám egy fekete nő\, a bankban nincsen betétem\, a Halló Baby vagy az Odavagyok magáért slágerek is.
URL:https://www.kjmk.hu/esemeny/hot-jazz-band-koncert/
LOCATION:Hírös Agóra Kulturális és Ifjúsági Központ\, Kecskemét\, Deák Ferenc tér 1.\, 6000
CATEGORIES:Jazz
ATTACH;FMTTYPE=image/png:https://www.kjmk.hu/wp-content/uploads/hotjazzband-koncert.png
END:VEVENT
BEGIN:VEVENT
DTSTART;TZID=Europe/Budapest:20260512T150000
DTEND;TZID=Europe/Budapest:20260512T160000
DTSTAMP:20260423T113819
CREATED:20260421T133111Z
LAST-MODIFIED:20260421T133111Z
UID:81234-1778598000-1778601600@www.kjmk.hu
SUMMARY:Könyvtári robotóra
DESCRIPTION:Robotika\, robotprogramozás önállóan vagy segítséggel\, Lego Ev3 robotokkal. \nA foglalkozást vezeti: Molnár Dániel könyvtáros. \nA részvétel regisztrációhoz kötött! https://www.kjmk.hu/jelentkezes-robotika-foglalkozasokra/ \nKeresse a Kreatív stúdiót a Facebookon is! https://www.facebook.com/groups/kjkkreativstudio
URL:https://www.kjmk.hu/esemeny/konyvtari-robotora-321/
LOCATION:Katona József Könyvtár\, Kecskemét\, Piaristák tere 8.\, Magyarország
CATEGORIES:Könyvtári program
ATTACH;FMTTYPE=image/jpeg:https://www.kjmk.hu/wp-content/uploads/konyvtari_robotora_web-2.jpg
END:VEVENT
BEGIN:VEVENT
DTSTART;TZID=Europe/Budapest:20260512T163000
DTEND;TZID=Europe/Budapest:20260512T180000
DTSTAMP:20260423T113819
CREATED:20260421T130956Z
LAST-MODIFIED:20260421T130956Z
UID:81213-1778603400-1778608800@www.kjmk.hu
SUMMARY:Biblioterápiás foglalkozás
DESCRIPTION:Foglalkozásvezető: Muráncsik Mónika irodalomterapeuta\nA foglalkozás előzetes regisztrációhoz kötött! \n\nszemélyesen a II. emeleti Zenei gyűjteményben\ne-mailben: onetextcloser@gmail.com.\nlegkésőbb 2026. május 9-ig.\n\nTovábbi részletek\, információk: http://www.kjmk.hu/biblioterapia
URL:https://www.kjmk.hu/esemeny/biblioterapias-foglalkozas-38/
LOCATION:Katona József Könyvtár\, Kecskemét\, Piaristák tere 8.\, Magyarország
CATEGORIES:Könyvtári program
ATTACH;FMTTYPE=image/jpeg:https://www.kjmk.hu/wp-content/uploads/biblioterapia_web.jpg
END:VEVENT
BEGIN:VEVENT
DTSTART;TZID=Europe/Budapest:20260512T163000
DTEND;TZID=Europe/Budapest:20260512T180000
DTSTAMP:20260423T113819
CREATED:20260421T141114Z
LAST-MODIFIED:20260421T141114Z
UID:81271-1778603400-1778608800@www.kjmk.hu
SUMMARY:Allergiák megelőzése és természetes gyógymódjai
DESCRIPTION:Előadó: Dr. Wínn Horsley\, az Eleki Életmódközpont orvosa.
URL:https://www.kjmk.hu/esemeny/allergiak-megelozese-es-termeszetes-gyogymodjai/
LOCATION:Katona József Könyvtár\, Kecskemét\, Piaristák tere 8.\, Magyarország
CATEGORIES:Könyvtári program
ATTACH;FMTTYPE=image/jpeg:https://www.kjmk.hu/wp-content/uploads/eleki_eletmodkozpont_web2.jpg
END:VEVENT
BEGIN:VEVENT
DTSTART;TZID=Europe/Budapest:20260512T170000
DTEND;TZID=Europe/Budapest:20260512T183000
DTSTAMP:20260423T113819
CREATED:20260415T131818Z
LAST-MODIFIED:20260417T105046Z
UID:80988-1778605200-1778610600@www.kjmk.hu
SUMMARY:Élő könyvtár - emberek és történetek: "Titokban inni\, bátran megszólalni"
DESCRIPTION:„Titokban inni\, bátran megszólalni” beszélgetés a női alkoholizmus rejtett valóságáról és a felépülés útjáról. \nA könyvtárban olyan emberekkel beszélgethetsz\, akik saját történetükön keresztül segítenek megérteni olyan élethelyzeteket\, amelyekről gyakran csak sztereotípiákat hallunk. \nKérdezni szabad. Ítélkezni nem kell. Figyelni elég. \nModerátor: Csernák Krisztina egészségszakpszichológus\, pszichoterapeuta\, az Empátia Pszichológiai Központ alapítója. \nFacebook-esemény: https://www.facebook.com/events/1356791856272695
URL:https://www.kjmk.hu/esemeny/elo-konyvtar-emberek-es-tortenetek/
LOCATION:Katona József Könyvtár\, Kecskemét\, Piaristák tere 8.\, Magyarország
CATEGORIES:Könyvtári program
ATTACH;FMTTYPE=image/jpeg:https://www.kjmk.hu/wp-content/uploads/0513_Elo_konyvtar_web.jpg
END:VEVENT
BEGIN:VEVENT
DTSTART;TZID=Europe/Budapest:20260513T163000
DTEND;TZID=Europe/Budapest:20260513T173000
DTSTAMP:20260423T113819
CREATED:20260413T073232Z
LAST-MODIFIED:20260413T073232Z
UID:80445-1778689800-1778693400@www.kjmk.hu
SUMMARY:Csiri-bee
DESCRIPTION:Ovis játékos angol foglalkozás. \nVezeti: Nickl Petra gyermekkönyvtáros. \nA foglalkozás ingyenes\, de regisztrációhoz és kölyökolvasójegyhez kötött. \nJelentkezés: https://www.kjmk.hu/csiri-bee/
URL:https://www.kjmk.hu/esemeny/csiri-bee-5/
LOCATION:Katona József Könyvtár\, Kecskemét\, Piaristák tere 8.\, Magyarország
CATEGORIES:Könyvtári program
ATTACH;FMTTYPE=image/jpeg:https://www.kjmk.hu/wp-content/uploads/Csiri-bee__web.jpg
END:VEVENT
BEGIN:VEVENT
DTSTART;TZID=Europe/Budapest:20260513T164500
DTEND;TZID=Europe/Budapest:20260513T174500
DTSTAMP:20260423T113819
CREATED:20260421T131647Z
LAST-MODIFIED:20260421T131647Z
UID:81222-1778690700-1778694300@www.kjmk.hu
SUMMARY:Mesedélután
DESCRIPTION:Fundi és a kézmosás. \nA foglalkozást vezeti: Kovács Evelin könyvtáros.
URL:https://www.kjmk.hu/esemeny/mesedelutan-33/
LOCATION:Ménteleki Fiókkönyvtár\, Kecskeméti út 41.\, Méntelek
CATEGORIES:Fiókkönyvtári program,Ménteleki Fiókkönyvtár
END:VEVENT
BEGIN:VEVENT
DTSTART;TZID=Europe/Budapest:20260513T190000
DTEND;TZID=Europe/Budapest:20260513T200000
DTSTAMP:20260423T113819
CREATED:20260421T113225Z
LAST-MODIFIED:20260421T113225Z
UID:81154-1778698800-1778702400@www.kjmk.hu
SUMMARY:„SÁRKÖZY+ – KLASSZIK 2.0” HA KULTKASZINÓ
DESCRIPTION:„SÁRKÖZY+ – KLASSZIK 2.0”\nHA KULTKASZINÓ\nA produkció két világszínvonalú fiatal\, magyar művész\, Sárközy Lajos hegedűművész és Balázs Elemér zongoraművész közös koncertje\, mely a klasszikus zene legismertebb dallamait hozza el friss\, mai hangzásvilággal\, saját feldolgozásokban.\nEgy igazi innovatív koncertprogram\, amely a klasszikus zene világát friss\, modern köntösben mutatja be. \nA Petőfi Kulturális Program Magyarország Kormánya támogatásával a Nemzeti Művelődési Intézet koordinációjával valósul meg. \nAz előadás hossza: 90 perc\, szünet nélkül \n 
URL:https://www.kjmk.hu/esemeny/sarkozy-klasszik-2-0-ha-kultkaszino/
LOCATION:KultKaszino\, Rákóczi út 3.\, Kecskemét\, 6000
CATEGORIES:Kecskeméti koncertélet,Klasszikus zene,Könnyűzene
ATTACH;FMTTYPE=image/png:https://www.kjmk.hu/wp-content/uploads/Sarkozy-koncert.png
END:VEVENT
BEGIN:VEVENT
DTSTART;TZID=Europe/Budapest:20260514T180000
DTEND;TZID=Europe/Budapest:20260514T200000
DTSTAMP:20260423T113819
CREATED:20260416T094745Z
LAST-MODIFIED:20260416T094745Z
UID:81010-1778781600-1778788800@www.kjmk.hu
SUMMARY:A rejtőzködő Szabó Magda
DESCRIPTION:A rejtőzködő Szabó Magda\n\nTökéletes Anyák napi ajándékötletA nagy írónő\, ahogy senki se látta még: szürreális\, szívmelengető\, költői felolvasószínház\, kihagyhatatlan élmény.\n\n\nDöbrösi Laura\, az Aranyélet és az Egykutya sztárja és Prieger Zsolt Anima-főnök\, író\, producer\, előadó darabja a titokzatos\, rejtőzködő Szabó Magdáról mesél műrészletekkel\, eddig nem hallott irodalmi és zenei montázsokkal.\n\n\n\nJegyek kaphatók online: https://www.tixa.hu/szabomagda\n\nVagy személyesen a Story kávézóban
URL:https://www.kjmk.hu/esemeny/a-rejtozkodo-szabo-magda-2/
LOCATION:Story Cafe\, Piaristák tere 8.\, Kecskemét\, Bács-Kiskun\, 6000
CATEGORIES:Ismeretterjesztő program,Kecskeméti koncertélet
ATTACH;FMTTYPE=image/jpeg:https://www.kjmk.hu/wp-content/uploads/a-rejtozkodo-szabo-magda.jpg
END:VEVENT
BEGIN:VEVENT
DTSTART;TZID=Europe/Budapest:20260514T183000
DTEND;TZID=Europe/Budapest:20260514T200000
DTSTAMP:20260423T113819
CREATED:20260324T120749Z
LAST-MODIFIED:20260324T120749Z
UID:75988-1778783400-1778788800@www.kjmk.hu
SUMMARY:A rejtőzködő Szabó Magda
DESCRIPTION:Döbrösi Laura és Prieger Zsolt irodalmi zenés darabja. \nKapunyitás\, welcome drink: 18.00 óra. \nHelyfoglalás érkezési sorrendben. \nJegyek kaphatók a Könyvtári Kávézóban és online: tixa.hu/talkshow \nTalk Show Events bemutatja. \nFacebook-esemény: https://www.facebook.com/events/2283275525830411
URL:https://www.kjmk.hu/esemeny/a-rejtozkodo-szabo-magda/
LOCATION:Katona József Könyvtár\, Kecskemét\, Piaristák tere 8.\, Magyarország
CATEGORIES:Könyvtári program
ATTACH;FMTTYPE=image/jpeg:https://www.kjmk.hu/wp-content/uploads/INSTA-FB-Postok-Sz.-Magda_web.jpg
END:VEVENT
BEGIN:VEVENT
DTSTART;TZID=Europe/Budapest:20260515T100000
DTEND;TZID=Europe/Budapest:20260515T110000
DTSTAMP:20260423T113819
CREATED:20260421T124258Z
LAST-MODIFIED:20260421T124258Z
UID:81189-1778839200-1778842800@www.kjmk.hu
SUMMARY:Helen Doron angol baba-mama foglalkozás
DESCRIPTION:Havi rendszerességű\, ingyenes angol baba-mama foglalkozás várja 3 hónapostól 2 éves korig a babákat. Kérjük\, jelezzék előzetesen részvételi szándékukat!\nEgy-egy foglalkozásra maximum 15 egészséges apróságot és kísérőjét (anyát\, apát\, nagyszülőt) várunk.\nFelhívjuk a kedves jelentkezők figyelmét\, hogy az egyes alkalmak minimum 5 főtől kerülnek megtartásra. Az esetlegesen elmaradó foglalkozásokról a regisztráltakat e-mail üzenetben értesítjük. Szíves megértésüket köszönjük! \nOnline regisztráció és további részletek:https://www.kjmk.hu/helen-doron/
URL:https://www.kjmk.hu/esemeny/helen-doron-angol-baba-mama-foglalkozas-81/
LOCATION:Katona József Könyvtár\, Kecskemét\, Piaristák tere 8.\, Magyarország
CATEGORIES:Könyvtári program
ATTACH;FMTTYPE=image/jpeg:https://www.kjmk.hu/wp-content/uploads/helen_doron_baba_web-1.jpg
END:VEVENT
BEGIN:VEVENT
DTSTART;TZID=Europe/Budapest:20260515T160000
DTEND;TZID=Europe/Budapest:20260515T170000
DTSTAMP:20260423T113819
CREATED:20260421T124537Z
LAST-MODIFIED:20260421T124741Z
UID:81190-1778860800-1778864400@www.kjmk.hu
SUMMARY:MI robotépítők
DESCRIPTION:Haladó robotépítés a mesterséges intelligencia segítségével 10 éves kortól. \nA foglalkozást vezeti: Molnár Dániel könyvtáros. \nA foglalkozáson a részvétel olvasói tagsághoz és regisztrációhoz kötött! https://www.kjmk.hu/jelentkezes-robotika-foglalkozasokra/ \nKeresse a Kreatív stúdiót a Facebookon is! https://www.facebook.com/groups/kjkkreativstudio
URL:https://www.kjmk.hu/esemeny/mi-robotepitok-26/
LOCATION:Katona József Könyvtár\, Kecskemét\, Piaristák tere 8.\, Magyarország
CATEGORIES:Könyvtári program
ATTACH;FMTTYPE=image/jpeg:https://www.kjmk.hu/wp-content/uploads/MI_robotepitok_WEB.jpg
END:VEVENT
BEGIN:VEVENT
DTSTART;TZID=Europe/Budapest:20260516T090000
DTEND;TZID=Europe/Budapest:20260516T100000
DTSTAMP:20260423T113819
CREATED:20260421T125952Z
LAST-MODIFIED:20260421T125952Z
UID:81201-1778922000-1778925600@www.kjmk.hu
SUMMARY:Robotika kicsikkel Sphero INDI kocsirobotokkal
DESCRIPTION:A Sphero INDI kocsirobotokkal már az egészen kicsik is bátran elkezdhetik az ismerkedést a robotika világával. A színkódokkal történő irányítás segít az előre tervezés\, a kreativitás\, hibakeresés és problémamegoldás fejlesztésében\, mindezt úgy\, hogy nincs szükség számítógép vagy tablet használatára.\nAjánlott életkor: 5-10 év között\, érvényes olvasói tagság birtokában.\nMaximális résztvevői szám: 4 fő \nJelentkezés: https://www.kjmk.hu/jelentkezes-robotika-foglalkozasokra/ \n \n  \n 
URL:https://www.kjmk.hu/esemeny/robotika-kicsikkel-sphero-indi-kocsirobotokkal-3/
LOCATION:Katona József Könyvtár\, Kecskemét\, Piaristák tere 8.\, Magyarország
CATEGORIES:Könyvtári program
ATTACH;FMTTYPE=image/jpeg:https://www.kjmk.hu/wp-content/uploads/robotika_kicsiknek_web-1.jpg
END:VEVENT
END:VCALENDAR